BEGIN:VCALENDAR
VERSION:2.0
PRODID:-//wp-events-plugin.com//7.2.3.1//EN
TZID:Europe/Madrid
X-WR-TIMEZONE:Europe/Madrid
BEGIN:VEVENT
UID:115@aedipeasturias.es
DTSTART;TZID=Europe/Madrid:20241028T173000
DTEND;TZID=Europe/Madrid:20241028T184500
DTSTAMP:20241029T112309Z
URL:https://www.aedipeasturias.es/eventos/xi-edicion-master-en-direccion-y
 -gestion-de-recursos-humanos-presentacion/
SUMMARY:XI Edición Máster en Dirección y Gestión de Recursos Humanos: P
 resentación
DESCRIPTION:\nObjetivos\nEl Máster en Dirección y Gestion de RRHH es una 
 iniciativa conjunta de AEDIPE y Cámara de Comercio de Gijón\, con el obj
 etivo de ofrecer al alumno una visión global y especialmente práctica d
 e las funciones del Director de Recursos Humanos. Comprender la función 
 de RRHH dentro de una empresa. Dominar herramientas básicas en selección
 \, formación\, retribución\, etc. Profundizar en aspectos como liderazgo
  o gestión del cambio\, claves en los RRHH. Entender el contexto internac
 ional actual y adaptarse e incluso anticiparse al mismo. Conocer nuevas he
 rramientas de gestión de personas. Desarrollar una planificación complet
 a de RRHH en una organización.\n\nCon más de 200 alumnos formados de los
  cuales el 90% trabaja actualmente en el área de Recursos Humanos\, llega
 mos a la 10ª edición incorporando novedades como la remuneración de las
  prácticas. Igualmente hemos ampliado el programa de contenidos para ofre
 cer un programa de 600 horas entre las clases presenciales y las práctica
 s.\n\n&nbsp\;\nProfesorado\nEl Máster en Dirección y Gestión de Recurso
 s Humanos cuenta entre su profesorado con profesionales en activo\, todos
  ellos directivos de RRHH en las principales empresas asturianas\, lo que 
 garantiza al alumno un conocimiento práctico\, fundamentado en las experi
 encias del día a día de especialistas en la gestión de personas. Ademá
 s\, el nivel docente del claustro de profesores está avalado por las eva
 luaciones de los alumnos de las anteriores cinco ediciones del programa\,
  con una nota media cercana al 9.\n\n&nbsp\;\nPrácticas remuneradas y tra
 bajo fin de Máster\nA la finalización del Máster los alumnos desemplead
 os realizarán un programa de prácticas remuneradas en empresas seleccion
 adas por el equipo académico del programa\, con una duración de 2 meses
  (jornada laboral completa)\, cuya realización será obligatoria para la 
 obtención del título.\n\nLas personas en activo realizarán un Trabajo F
 in de Máster tutorizado por la dirección académica del programa.
END:VEVENT
BEGIN:VTIMEZONE
TZID:Europe/Madrid
X-LIC-LOCATION:Europe/Madrid
BEGIN:STANDARD
DTSTART:20241027T020000
TZOFFSETFROM:+0200
TZOFFSETTO:+0100
TZNAME:CET
END:STANDARD
END:VTIMEZONE
END:VCALENDAR