BEGIN:VCALENDAR
VERSION:2.0
PRODID:-//wp-events-plugin.com//7.2.3.1//EN
TZID:Europe/Madrid
X-WR-TIMEZONE:Europe/Madrid
BEGIN:VEVENT
UID:34@aedipeasturias.es
DTSTART;TZID=Europe/Madrid:20210311T190000
DTEND;TZID=Europe/Madrid:20210311T200000
DTSTAMP:20210309T193101Z
URL:https://www.aedipeasturias.es/eventos/webinar-presentacion-del-proyect
 o-de-apoyo-y-orientacion-laboral-de-mujeres-mayores-de-asturias/
SUMMARY:Webinar: Presentación del proyecto de "apoyo y orientación labora
 l de mujeres mayores de Asturias"
DESCRIPTION:\nParticipan: \n- Jessica Buelga\, Vocal de AEDIPE Asturias.\n-
  Teresa Vega Estrella\, Presidenta de RAMAL.\n- Ana Prado Diaz\, Vocal de 
 RAMAL.\n- Beatriz Ávila\, Representante de INSERTA EMPLEO en el Consejo A
 sesor de RAMAL.\nTras la presentación tendrá lugar un turno de preguntas
  en directo.\nInscripción &gt\; Click Aquí
CATEGORIES:Colaboración,Webinar
END:VEVENT
BEGIN:VTIMEZONE
TZID:Europe/Madrid
X-LIC-LOCATION:Europe/Madrid
BEGIN:STANDARD
DTSTART:20201025T020000
TZOFFSETFROM:+0200
TZOFFSETTO:+0100
TZNAME:CET
END:STANDARD
END:VTIMEZONE
END:VCALENDAR