BEGIN:VCALENDAR
VERSION:2.0
PRODID:-//wp-events-plugin.com//7.2.3.1//EN
TZID:Europe/Madrid
X-WR-TIMEZONE:Europe/Madrid
BEGIN:VEVENT
UID:17@aedipeasturias.es
DTSTART;TZID=Europe/Madrid:20200515T120000
DTEND;TZID=Europe/Madrid:20200515T130000
DTSTAMP:20200515T220931Z
URL:https://www.aedipeasturias.es/eventos/webinar-novedades-laborales-en-m
 ateria-de-ertes-y-herramientas-practicas-para-la-nueva-normalidad/
SUMMARY:Webinar: "Novedades laborales en materia de ERTEs y herramientas pr
 ácticas para la nueva normalidad"
DESCRIPTION:\n\nPROGRAMA\nTras el acuerdo alcanzado entre el Gobierno\, pat
 ronal y sindicatos sobre la prolongación de los ERTEs\nhasta el 30 de jun
 io\, son muchas las dudas que han surgido entre las empresas sobre cómo i
 nfluyen\ndichas medidas ante las que ya han adoptado anteriormente en su c
 ompañía y cuáles otras pueden\nemprender en las próximas semanas.\n¿P
 uedo realizar un nuevo ERTE habiendo acometido uno con anterioridad? ¿Qu
 é ocurre con las cuotas a\nla Seguridad Social? ¿Puedo desafectar progre
 sivamente a los trabajadores para ir adaptando el ERTE a\nmis nuevas neces
 idades productivas?\nA estas inquietudes dará respuesta Belén Fraga\, So
 cia de Derecho Laboral de Vaciero\, en un webinar en\nque analizará las p
 rincipales novedades laborales en materia de ERTEs y qué aspectos deben t
 ener en\ncuenta los empresarios en el momento en el que finalice el estado
  de alarma.\n\nPONENTES\nBelén Fraga\, Socia de Derecho Laboral de Vacier
 o\nRafael Rodríguez\, Presidente Aedipe Asturias\n\nInscripciones\nhttps:
 //register.gotowebinar.com/register/8681231847339340301
CATEGORIES:Colaboración,Webinar
END:VEVENT
BEGIN:VTIMEZONE
TZID:Europe/Madrid
X-LIC-LOCATION:Europe/Madrid
BEGIN:DAYLIGHT
DTSTART:20200329T030000
TZOFFSETFROM:+0100
TZOFFSETTO:+0200
TZNAME:CEST
END:DAYLIGHT
END:VTIMEZONE
END:VCALENDAR