BEGIN:VCALENDAR
VERSION:2.0
PRODID:-//wp-events-plugin.com//7.2.3.1//EN
TZID:Europe/Madrid
X-WR-TIMEZONE:Europe/Madrid
BEGIN:VEVENT
UID:33@aedipeasturias.es
DTSTART;TZID=Europe/Madrid:20210310T100000
DTEND;TZID=Europe/Madrid:20210310T110000
DTSTAMP:20210304T190614Z
URL:https://www.aedipeasturias.es/eventos/webinar-como-mejorar-la-resilien
 cia-y-el-bienestar-de-los-empleados/
SUMMARY:Webinar:  Cómo mejorar la resiliencia y el bienestar de los emplea
 dos
DESCRIPTION:\n              REGISTRO &gt\; https://view.genial.ly/60
 3cb1f93f847e0d0193bafd
CATEGORIES:Colaboración,Webinar
END:VEVENT
BEGIN:VTIMEZONE
TZID:Europe/Madrid
X-LIC-LOCATION:Europe/Madrid
BEGIN:STANDARD
DTSTART:20201025T020000
TZOFFSETFROM:+0200
TZOFFSETTO:+0100
TZNAME:CET
END:STANDARD
END:VTIMEZONE
END:VCALENDAR