BEGIN:VCALENDAR
VERSION:2.0
PRODID:-//wp-events-plugin.com//7.2.3.1//EN
TZID:Europe/Madrid
X-WR-TIMEZONE:Europe/Madrid
BEGIN:VEVENT
UID:16@aedipeasturias.es
DTSTART;TZID=Europe/Madrid:20200507T100000
DTEND;TZID=Europe/Madrid:20200507T100000
DTSTAMP:20200515T220853Z
URL:https://www.aedipeasturias.es/eventos/webinar-aedipe-ciberseguridad/
SUMMARY:Webinar AEDIPE ciberseguridad
DESCRIPTION:https://seresco.es/webinar-buenas-practicas-ciberseguridad-rrhh
ATTACH;FMTTYPE=image/jpeg:https://www.aedipeasturias.es/wp-content/uploads
 /2020/05/ciberseguridad_en_rrhh.jpg
CATEGORIES:Colaboración,Webinar
END:VEVENT
BEGIN:VTIMEZONE
TZID:Europe/Madrid
X-LIC-LOCATION:Europe/Madrid
BEGIN:DAYLIGHT
DTSTART:20200329T030000
TZOFFSETFROM:+0100
TZOFFSETTO:+0200
TZNAME:CEST
END:DAYLIGHT
END:VTIMEZONE
END:VCALENDAR