BEGIN:VCALENDAR
VERSION:2.0
PRODID:-//wp-events-plugin.com//7.2.3.1//EN
TZID:Europe/Madrid
X-WR-TIMEZONE:Europe/Madrid
BEGIN:VEVENT
UID:114@aedipeasturias.es
DTSTART;TZID=Europe/Madrid:20241028T190000
DTEND;TZID=Europe/Madrid:20241028T203000
DTSTAMP:20241016T144422Z
URL:https://www.aedipeasturias.es/eventos/transparencia-salarial-desafios-
 y-oportunidades-de-la-directiva-2023-970/
SUMMARY:Transparencia salarial: desafíos y oportunidades de la directiva 2
 023/970
DESCRIPTION:\n\nPlazas limitadas\, reserva la tuya haciendo click en este e
 nlace\n\n&nbsp\;\n\nAedipe Asturias en colaboración con la Cámara de Com
 ercio de Gijón te invita a la jornada 'Desafíos y Oportunidades de la Di
 rectiva 2023/970 de Transparencia Salarial' donde abordaremos requisitos 
 legales de la directiva europea y te ayudaremos a entender qué obligacion
 es impone la normativa y cómo afecta a tu empresa\; que impacto tendrá e
 n la operativa de RRHH y cómo preparar la política retributiva adaptando
  tus políticas salariales y convirtiendo este proceso en una ventaja comp
 etitiva.\n\nLa Directiva Europea 2023/970 sobre transparencia salarial sup
 one un cambio clave para garantizar la igualdad salarial entre hombres y m
 ujeres en las empresas. ¿Estás preparado/a para cumplir con sus requisi
 tos y convertir esta obligación en una oportunidad para tu organización?
  \n\nPlazas limitadas\, reserva la tuya haciendo click en este enlace\n\n\
 n&nbsp\;
CATEGORIES:Formación
LOCATION:Sala Mirador Palacio de Congresos\, Paseo Dr. Fleming 481 (Palacio
  de Congresos Feria de Muestras)\, Gijón\, 33201\, Asturias\, España
X-APPLE-STRUCTURED-LOCATION;VALUE=URI;X-ADDRESS=Paseo Dr. Fleming 481 (Pala
 cio de Congresos Feria de Muestras)\, Gijón\, 33201\, Asturias\, España;
 X-APPLE-RADIUS=100;X-TITLE=Sala Mirador Palacio de Congresos:geo:0,0
END:VEVENT
BEGIN:VTIMEZONE
TZID:Europe/Madrid
X-LIC-LOCATION:Europe/Madrid
BEGIN:STANDARD
DTSTART:20241027T020000
TZOFFSETFROM:+0200
TZOFFSETTO:+0100
TZNAME:CET
END:STANDARD
END:VTIMEZONE
END:VCALENDAR