BEGIN:VCALENDAR
VERSION:2.0
PRODID:-//wp-events-plugin.com//7.2.3.1//EN
TZID:Europe/Madrid
X-WR-TIMEZONE:Europe/Madrid
BEGIN:VEVENT
UID:70@aedipeasturias.es
DTSTART;TZID=Europe/Madrid:20220928T103000
DTEND;TZID=Europe/Madrid:20220928T120000
DTSTAMP:20220915T120021Z
URL:https://www.aedipeasturias.es/eventos/taller-como-aplicar-la-tecnologi
 a-a-la-gestion-de-recursos-humanos/
SUMMARY:TALLER: ¿CÓMO APLICAR LA TECNOLOGÍA A LA GESTIÓN DE RECURSOS HU
 MANOS?
DESCRIPTION:TALLER ACELERA PYME: ¿CÓMO APLICAR LA TECNOLOGÍA A LA GESTI
 ÓN DE RECURSOS HUMANOS?\nJornada en formato presencial organizada por la 
 Cámara de Comercio de Gijón y Aedipe Asturias\, que se celebrará en el 
 Centro de Formación de la Cámara.\n\nAl finalizar el taller tendrá luga
 r un cafe-networking entre los asistentes.\n\n 	Horario 10:30 a 12:00\n 	D
 uración 1 hora y media\n 	Precio Gratuito previa inscripción\n 	Modalida
 d Presencial\n\nOBJETIVOS:\nEl objetivo de este taller será acercar a las
  empresas asistentes\, nuevas tecnologías que nos permitirán ahorrar tie
 mpo\, optimizar todo tipo de procesos de RRHH y mejorar la experiencia de 
 los empleados.\nPROGRAMA:\n1. Bienvenida Institucional. Ignacio Martín (D
 irector de programas a empresas de la Cámara de Comercio de Gijón) y J
 éssica  Buelga Pérez (Vocal de la junta de AEDIPE Asturias)\n2. El nuev
 o  rol de RRHH en el siglo XXI\n3. Nuevas funciones/objetivos\, retos com
 o consecuencia de la tecnología.\n4. Dimensionamiento &amp\; partners.\n5
 . El nuevo ciclo de vida del empleado.  KPIs.\n6. Digitalización y autom
 atización en RRHH.\n7. Qué hace la digitalización\, en qué funciones\,
  qué objetivo/beneficios y ventajas.\n8. Qué herramientas se  conocen y
  existen que nos ahorren costes  y tiempo en la  gestión día a día.\n
 9. Que se espera de un software (características) y tendencias a medio pl
 azo\n10. El colaborador y la tecnología\n11. Caso de éxito: Hotel Sherat
 on Lisboa\n12. Turno de preguntas\n13. Café - Networking\n\n\n\nPONENTE:
  Carlos P. Hornstein. Ingeniero industrial y MBA\, co-fundador y CEO de n
 iikiis\, empresa tecnológica enfocada en el área de la gestión de recur
 sos humanos. En sus más de 25 años de experiencia profesional ha trabaja
 do en empresas multinacionales como Siemens y dirigido escuelas de negocio
  en España\, EE.UU. (Wharton) y Reino Unido (LBS).\n\n\n\nInscripciones: 
 https://www.camaragijon.es/es/agenda/taller-acelera-pyme-como-aplicar-la-t
 ecnologia-a-la-gestion-de-recursos-humanos.html\n\n\n\n\n
ATTACH;FMTTYPE=image/jpeg:https://www.aedipeasturias.es/wp-content/uploads
 /2022/09/rrhh-copy.jpg
CATEGORIES:Colaboración
END:VEVENT
BEGIN:VTIMEZONE
TZID:Europe/Madrid
X-LIC-LOCATION:Europe/Madrid
BEGIN:DAYLIGHT
DTSTART:20220327T030000
TZOFFSETFROM:+0100
TZOFFSETTO:+0200
TZNAME:CEST
END:DAYLIGHT
END:VTIMEZONE
END:VCALENDAR