BEGIN:VCALENDAR
VERSION:2.0
PRODID:-//wp-events-plugin.com//7.2.3.1//EN
TZID:Europe/Madrid
X-WR-TIMEZONE:Europe/Madrid
BEGIN:VEVENT
UID:121@aedipeasturias.es
DTSTART;TZID=Europe/Madrid:20241128T200000
DTEND;TZID=Europe/Madrid:20241128T230000
DTSTAMP:20241121T084135Z
URL:https://www.aedipeasturias.es/eventos/talento-que-emociona-inspira-y-t
 ransforma-premio-aedipe-asturias-2024/
SUMMARY:TALENTO QUE EMOCIONA\, INSPIRA Y TRANSFORMA: PREMIO AEDIPE ASTURIAS
  2024
DESCRIPTION:\n\nEstimad@ asociad@\,\n\nEl próximo 28 de noviembre\, en el 
 Casino Asturias de Gijón\, rendiremos homenaje a Jesús María Iglesias F
 ernández\, galardonado con el Premio Aedipe Asturias 2024 en reconocimien
 to a su destacada trayectoria profesional.\n\nLa velada seguirá el siguie
 nte programa:\n\n 	 20:00h\; Apertura del evento y bienvenida.\n 	 20:00h\
 ; Charla de José Manuel Suárez Arguelles (director de consultoría de fo
 rmación y selección en ALSA): “Cultura y Diversidad\, liderando emocio
 nes”.\n 	 20:30h\; Glosa del premiado por Esther Matute Fernández (dire
 ctora de RRHH en SEUR Asturias) e intervención del premiado.\n 	 21:00h\;
  Cierre de la velada con vino español y networking.\n\nUn evento único p
 ara celebrar el talento\, reflexionar sobre liderazgo y fortalecer nuestra
  comunidad de profesionales de RRHH.\n\n¡Te esperamos!\n\nFechas y horari
 os:\n\nJueves 28 de Noviembre\, 20:00h\n\nFormato: Presencial\n\nLugar: Ca
 sino de Asturias\, Gijón\n\nInscripciones para asociados y acompañantes 
 disponibles.\n\nPor favor\, realiza tu inscripción antes del 27/11/2024\,
  para facilitar una mejor organización del evento.\n\n&nbsp\;
CATEGORIES:Premio
LOCATION:Casino de Asturias\, Calle Fernández Vallín\, esquina\, Calle Pa
 dilla\, 33205 Gijón\, Asturias\, Gijón\, 33205\, Principado de Asturias 
 \, España
X-APPLE-STRUCTURED-LOCATION;VALUE=URI;X-ADDRESS=Calle Fernández Vallín\, 
 esquina\, Calle Padilla\, 33205 Gijón\, Asturias\, Gijón\, 33205\, Princ
 ipado de Asturias \, España;X-APPLE-RADIUS=100;X-TITLE=Casino de Asturias
 :geo:0,0
END:VEVENT
BEGIN:VTIMEZONE
TZID:Europe/Madrid
X-LIC-LOCATION:Europe/Madrid
BEGIN:STANDARD
DTSTART:20241027T020000
TZOFFSETFROM:+0200
TZOFFSETTO:+0100
TZNAME:CET
END:STANDARD
END:VTIMEZONE
END:VCALENDAR