BEGIN:VCALENDAR
VERSION:2.0
PRODID:-//wp-events-plugin.com//7.2.3.1//EN
TZID:Europe/Madrid
X-WR-TIMEZONE:Europe/Madrid
BEGIN:VEVENT
UID:71@aedipeasturias.es
DTSTART;TZID=Europe/Madrid:20221006T180000
DTEND;TZID=Europe/Madrid:20221006T193000
DTSTAMP:20220930T094705Z
URL:https://www.aedipeasturias.es/eventos/sesion-0-master-en-direccion-y-g
 estion-de-recursos-humanos/
SUMMARY:Sesión 0 Máster en Dirección y Gestión de Recursos Humanos
DESCRIPTION:SESIÓN CERO.\nPUESTOS Y PERFILES MÁS DEMANDADOS EN RECURSOS H
 UMANOS: EL FUTURO DE LA GESTIÓN DE PERSONAS\n\n 	Horario 18:00 a 19:30\n 
 	Duración 1 hora y media\n 	Precio Gratuito previa inscripción\n 	Modali
 dad Presencial\n\n\n\nOBJETIVOS:\nSesión 0 del Máster en Dirección y Ge
 stión de RRHH\, una iniciativa conjunta de AEDIPE Asturias y Cámara de C
 omercio de Gijón\, con el objetivo de ofrecer al alumno una visión globa
 l y especialmente práctica de las funciones del Director de Recursos Huma
 nos.\nPROGRAMA:\n-18:00 Conferencia: Puestos y perfiles más demandados en
  recursos humanos: El futuro de a gestión de personas.\n\n 	Balbino Gonz
 ález Sáez.\n 	Director académico del Master y Docente.\n 	Vicepresident
 e de Aedipe Asturias.\n 	Director de Linkinpeople Recursos Humanos\n\n\n-1
 8:20 Experiencias de las antiguas alumnas del Master\n\n\n 	Irene Fontela 
 Viñuela. Talent Acquisition Specialist Europe. Element Solutions Inc.\n 	
 Silvia Pravia Suárez. People and Culture Specialist-Europe.Straker Transl
 ations\n\n\n-19:00 Presentación 9ª edición del Master en Dirección y G
 estión de Recursos Humanos. \n\n 	Tomás Santos Varela\n 	 Miembro del C
 omité Académico del Master y Docente.\n 	Director de RR.HH. de Crivencar
 -Tierra Astur\n\n\n-19:15 Coloquio\, preguntas y cierre.\n\n\n\nInscripcio
 nes: https://www.camaragijon.es/es/agenda/cargarAplicacionAgenda.do?identi
 ficador=746&amp\;utm_campaign=rrhh-sesion-0-3&amp\;utm_medium=email&amp\;u
 tm_source=acumbamail\n\n
ATTACH;FMTTYPE=image/jpeg:https://www.aedipeasturias.es/wp-content/uploads
 /2022/09/sesion-0-rrhh.jpg
CATEGORIES:Formación
END:VEVENT
BEGIN:VTIMEZONE
TZID:Europe/Madrid
X-LIC-LOCATION:Europe/Madrid
BEGIN:DAYLIGHT
DTSTART:20220327T030000
TZOFFSETFROM:+0100
TZOFFSETTO:+0200
TZNAME:CEST
END:DAYLIGHT
END:VTIMEZONE
END:VCALENDAR