BEGIN:VCALENDAR
VERSION:2.0
PRODID:-//wp-events-plugin.com//7.2.3.1//EN
TZID:Europe/Madrid
X-WR-TIMEZONE:Europe/Madrid
BEGIN:VEVENT
UID:58@aedipeasturias.es
DTSTART;TZID=Europe/Madrid:20211123T103000
DTEND;TZID=Europe/Madrid:20211124T193000
DTSTAMP:20211123T105115Z
URL:https://www.aedipeasturias.es/eventos/revision-de-cv-y-de-perfil-de-li
 nkedin/
SUMMARY:Revisión de CV y de perfil de LinkedIn
DESCRIPTION:El Foro de Empleo ofrece un espacio virtual de encuentro e inte
 rcambio de experiencias y conocimientos entre empresas\, instituciones\, e
 studiantes y egresados y egresadas de la Universidad de Oviedo.\n\nPara lo
 s estudiantes el foro de empleo de la Universidad de Oviedo ofrece la op
 ortunidad de:\n\n 	Construir un perfil enriquecido de talento\, más allá
  del curriculum vitae.\n 	Conocer su perfil de competencias transversales 
 (soft skills) y talentos\, evaluando sus fortalezas y áreas de mejora.\n 
 	Navegar por el foro explorando los stands de empresas e instituciones.\n 
 	Participar en conferencias y masterclass en tiempo real.\n 	Participar en
  talleres prácticos relacionados con empleabilidad y emprendimiento.\n 	C
 ontactar con las empresas presentes en los stands del foro.\n 	Contar con 
 asesoramiento experto para sus proyectos de emprendimiento.\n 	Gestionar s
 u agenda personal de conferencias y recibir notificaciones que facilitará
 n su participación.\n\nLas personas egresadas de la Universidad de Ovie
 do podrán:\n\n 	Utilizar un gestor y recomendador de las oportunidades la
 borales que ofrecen las empresas que participan en el foro.\n 	Mejorar su 
 curriculum y perfil de LinkedIn gracias a la ayuda de expertos en recursos
  humanos.\n 	Calcular la afinidad de su perfil en conocimientos y competen
 cias con las ofertas de empleo de las empresas participantes en el foro.\n
  	Interactuar con las empresas e instituciones presentes en el foro median
 te un chat en vivo.\n\nDesde Aedipe Asturias\, profesionales de RRHH asoci
 ados participan en la Revisión de CV y de perfil de LinkedIn para ayudar 
 a mejorar la empleabilidad de las personas participantes y optimizar su pe
 rfil de LinkedIn. Lo haremos en turnos de mañana y tarde durante los dos 
 días que dura el Foro de empleo.\n\nInformación:\n\nhttps://www.funiovi.
 org/estudiantes/foroempleo
ATTACH;FMTTYPE=image/jpeg:https://www.aedipeasturias.es/wp-content/uploads
 /2021/11/1636557247943.jpg
CATEGORIES:Colaboración
END:VEVENT
BEGIN:VTIMEZONE
TZID:Europe/Madrid
X-LIC-LOCATION:Europe/Madrid
BEGIN:STANDARD
DTSTART:20211031T020000
TZOFFSETFROM:+0200
TZOFFSETTO:+0100
TZNAME:CET
END:STANDARD
END:VTIMEZONE
END:VCALENDAR