BEGIN:VCALENDAR
VERSION:2.0
PRODID:-//wp-events-plugin.com//7.2.3.1//EN
TZID:Europe/Madrid
X-WR-TIMEZONE:Europe/Madrid
BEGIN:VEVENT
UID:59@aedipeasturias.es
DTSTART;TZID=Europe/Madrid:20220204T183000
DTEND;TZID=Europe/Madrid:20220204T193000
DTSTAMP:20220120T120036Z
URL:https://www.aedipeasturias.es/eventos/presentacion-del-libro-rretos-hh
 umanos-tiempos-de-pandemia/
SUMMARY:Presentación del libro RRetos HHumanos: Tiempos de pandemia
DESCRIPTION:Te invitamos a la presentación del libro RRetos HHumanos el pr
 óximo 4 de febrero\, en Antigua Escuela de Comercio de Gijón (C/ Francis
 co Tomás y Valiente 1) a las 18:30 h.\n&nbsp\;\nPresentadora: Covi Sánch
 ez\, periodista y Presidenta de Aenoveles.\nParticipan los autores: Juan J
 osé Valle-Inclán\, Julio Rodríguez\, Manuel Pozo\, Rosa Allegue\, Astri
 d Nilsen\, Beatriz Soriano\, Enrique Mª Rodríguez y Luis Expósito.\nApo
 yan el acto: Ayuntamiento de Gijón\, ALSA\, Aedipe Asturias\, Red de Ment
 oring de España\, Editorial Kolima y Aenoveles.\n&nbsp\;\nSe solicita ins
 cripción para asistir al acto: https://wp.me/p8yeTD-hU\nPlazas limitadas
 .\n¡¡¡Te esperamos!!!\n&nbsp\;\n\nSinopsis del libro RRetos HHumanos: t
 iempos de pandemia.\n\n¿Cuáles han sido las consecuencias de una pandemi
 a que nos ha distanciado a los unos de los otros? Los trabajadores de Gree
 n Technology y su directora de Recursos Humanos han tenido sus propias viv
 encias\, con sus luces y sus sombras. A veces sin que las sombras dejen es
 pacio a la luz. RRetos HHumanos recoge doce historias de personajes muy 
 diferentes\, basadas en situaciones casi reales\, que hacen que cualquiera
  de ellos pueda ser tu compañero\, tu vecino… o tú mismo.\n\nA través
  de las experiencias de nuestros protagonistas caminamos por escenarios a 
 veces desoladores compartiendo sus sentimientos más sinceros para llegar 
 a comprender cómo el camino personal y el profesional al final suelen uni
 rse en uno solo. En este libro\, el tercero de esta saga temática\, volve
 mos a constatar que la esencia de las empresas la forman las personas y su
 s sentimientos y emociones.\n\nTanto si has leído las dos entregas anteri
 ores como si es la primera vez que te adentras en el universo de Green Tec
 hnology\, este texto único creado por once directores de Recursos Humanos
  y su coordinador literario te hará reflexionar sobre todo lo que hemos v
 ivido en tiempos de pandemia y cómo estos extraordinarios acontecimientos
  nos han marcado para siempre. ¿Qué lecciones nos llevamos de esta époc
 a\, tanto las personas como las empresas?\n\n&nbsp\;
ATTACH;FMTTYPE=image/jpeg:https://www.aedipeasturias.es/wp-content/uploads
 /2022/01/invitacion-GIJON.png
CATEGORIES:Presentación de libro
END:VEVENT
BEGIN:VTIMEZONE
TZID:Europe/Madrid
X-LIC-LOCATION:Europe/Madrid
BEGIN:STANDARD
DTSTART:20211031T020000
TZOFFSETFROM:+0200
TZOFFSETTO:+0100
TZNAME:CET
END:STANDARD
END:VTIMEZONE
END:VCALENDAR