BEGIN:VCALENDAR
VERSION:2.0
PRODID:-//wp-events-plugin.com//7.2.3.1//EN
TZID:Europe/Madrid
X-WR-TIMEZONE:Europe/Madrid
BEGIN:VEVENT
UID:97@aedipeasturias.es
DTSTART;TZID=Europe/Madrid:20231026T190000
DTEND;TZID=Europe/Madrid:20231026T190000
DTSTAMP:20231020T142550Z
URL:https://www.aedipeasturias.es/eventos/premio-aedipe-asturias-rr-hh-202
 3/
SUMMARY:Premio AEDIPE Asturias RR.HH. 2023
DESCRIPTION:\n\n&nbsp\;\n\nEl jurado ha concedido el Premio AEDIPE Asturias
  Recursos Humanos 2023 a la mejor trayectoria profesional en la función d
 e Personal\, Recursos Humanos o Relaciones laborales  a Doña Esther Matu
 te Fernández\, Directora de Recursos Humanos de Seur.\n\n&nbsp\;\nNos com
 place invitarte al acto de entrega y la celebración posterior\nJueves 26 
 de octubre | 19:00 horas\nCLUB DE TENIS DE OVIEDO (c/ General Zuvillaga\, 
 3\, Oviedo)\n&nbsp\;\nEsther Matute Fernández es Directora de RRHH en Seu
 r desde 1991. Anteriormente fue conferenciante\, promotora de empleo y for
 madora para distintos organismos y empresas\, como la Consejería de Traba
 jo y Acción Social\, el Ayuntamiento de Avilés\, el Ministerio de Trabaj
 o y Acción Social\, la E.O.I. deMadrid\, la Escuela de Negocios de Asturi
 as\, la Fundación Asturiana de Logística\, la Escuela deIngenieros o la 
 Sociedad Regional de Turismo\, entre otros.\nLicenciada en Psicología y D
 iplomada en Pedagogía por la Universidad de Oviedo\, Especialidad en Psic
 ología Industrial por la Facultad Complutense de Madrid\, y Técnico Supe
 rior en Prevención de Riesgos Laborales.\n&nbsp\;\nPrograma del acto de e
 ntrega del premio\n19 h Apertura y presentación del acto a cargo de don B
 albino González Sáez\, Vicepresidente de AEDIPE Asturias.\n\n19:35 h Mes
 a de debate: «Tendencias en la gestión de talento: perspectivas y práct
 icas actuales».\nParticipan: Francisco Javier Álvarez\, Director de RRHH
  en Language Kingdmon\; Sandra Botas\, Directora de RRHH de Seresco\; y Jo
 sé Manuel Gancedo\, larga trayectoria como Director de RRHH en El Corte I
 nglés. Modera Jéssica Buelga\, vocal de AEDIPE Asturias.\n\n20 h Entrega
  el premio don Manuel Ángel Busto Riego\, Director general de Seresco.\n\
 n20:30 h Clausura y vino español.\n\nAforo limitado. Imprescindible inscr
 ipción en el siguiente enlace https://seresco.es/premios-aedipe-asturias
CATEGORIES:Premio
END:VEVENT
BEGIN:VTIMEZONE
TZID:Europe/Madrid
X-LIC-LOCATION:Europe/Madrid
BEGIN:DAYLIGHT
DTSTART:20230326T030000
TZOFFSETFROM:+0100
TZOFFSETTO:+0200
TZNAME:CEST
END:DAYLIGHT
END:VTIMEZONE
END:VCALENDAR