BEGIN:VCALENDAR
VERSION:2.0
PRODID:-//wp-events-plugin.com//7.2.3.1//EN
TZID:Europe/Madrid
X-WR-TIMEZONE:Europe/Madrid
BEGIN:VEVENT
UID:68@aedipeasturias.es
DTSTART;TZID=Europe/Madrid:20220615T180000
DTEND;TZID=Europe/Madrid:20220615T210000
DTSTAMP:20220602T094747Z
URL:https://www.aedipeasturias.es/eventos/premio-aedipe-asturias-recursos-
 humanos-2022/
SUMMARY:Premio AEDIPE Asturias Recursos Humanos 2022
DESCRIPTION:El miércoles 15 de junio a las 18 h tendrá lugar en el Saló
 n de Plenos de la Cámara de Comercio de Gijón la gala de entrega del P
 remio AEDIPE Asturias RRHH 2022 a la mejor trayectoria profesional y ges
 tión de personas.\n\nEn esta ocasión\, el jurado ha concedido el galard
 ón a Dña. Mari Paz Miguel Rodríguez\, Coordinadora Territorial de Pers
 onas de Ibermutua desde hace 21 años y anteriormente Directora de RRHH de
  MADIN. Licenciada en Ciencias Económicas y Empresariales por la Universi
 dad de Oviedo y Vicepresidenta de AEDIPE Asturias.\n\nLa apertura y prese
 ntación del acto correrá a cargo de D.Luis de Sá\, Presidente de AEDIPE
  Asturias y D.Félix Baragaño\, Presidente de la Cámara de Comercio de G
 ijón\, y entregará el premio D.Manuel Ángel Busto Riego\, Director Gen
 eral de Seresco.\n\nAsí mismo\, acudirá como ponente invitada Dña. Ma
 rian Hurlé Díaz\, Regional Human Resources Business Partner en Merkle Es
 paña.\n\nA continuación se servirá un cóctel.\n\nSi eres asociad@ de A
 edipe y quieres acompañarnos ese día\, envía un email a comunicacion@ae
 dipeasturias.es para reservar tu plaza\, indicando tu nombre completo y em
 presa.\n\n¡¡¡Os esperamos!!!\n\n[pdf-embedder url="https://www.aedipeas
 turias.es/wp-content/uploads/2022/06/Invitacion-Premios-AEDIPE-Asturias-20
 22-2.pdf" title="Invitación Premios AEDIPE Asturias 2022 (2)"]
END:VEVENT
BEGIN:VTIMEZONE
TZID:Europe/Madrid
X-LIC-LOCATION:Europe/Madrid
BEGIN:DAYLIGHT
DTSTART:20220327T030000
TZOFFSETFROM:+0100
TZOFFSETTO:+0200
TZNAME:CEST
END:DAYLIGHT
END:VTIMEZONE
END:VCALENDAR