BEGIN:VCALENDAR
VERSION:2.0
PRODID:-//wp-events-plugin.com//7.2.3.1//EN
TZID:Europe/Madrid
X-WR-TIMEZONE:Europe/Madrid
BEGIN:VEVENT
UID:149@aedipeasturias.es
DTSTART;TZID=Europe/Madrid:20260205T183000
DTEND;TZID=Europe/Madrid:20260205T213000
DTSTAMP:20260129T172415Z
URL:https://www.aedipeasturias.es/eventos/premio-aedipe-2025/
SUMMARY:Premio Aedipe 2025
DESCRIPTION:\n\nReconocer el talento y el compromiso con las personas es un
 a parte esencial de la gestión responsable de las organizaciones.\n\nEl p
 róximo 5 de febrero\, AEDIPE Asturias celebrará la Entrega del Premio AE
 DIPE 2025\, un acto que pone en valor el liderazgo\, la excelencia y las b
 uenas prácticas en la gestión de personas.\n\nUn encuentro para comparti
 r experiencias\, reflexionar sobre el presente y el futuro de los RRHH y r
 econocer a quienes contribuyen a construir organizaciones más humanas y s
 ostenibles.\n\nEscaleta del acto: \n\n· 18:35 Agradecimiento y Presentac
 ión del acto de Aedipe Asturias - Jorge García Martínez\n· 18:45 Confe
 rencia - "Oportunidades y amenazas de la IA en la gestión del talento" - 
 Pedro Gallo\n· 19:15 Glosa al premiado - José Manuel Suárez Arguelles\n
 · 19:30 Intervención de Seresco - Reyes Palomares\n· 19:40 Entrega del 
 Premio Aedipe 2025\n· 19:45 Intervención del premiado - Balbino José Go
 nzález Sáez\n· 20:00 - 21:30 vino español networking\n\nHora Fin Event
 o: 21:30h 
CATEGORIES:Premio
LOCATION:Hotel AC Fórum Oviedo\, Plaza De Los Ferroviarios 1\, Oviedo\, As
 turias\, 33003\, España
X-APPLE-STRUCTURED-LOCATION;VALUE=URI;X-ADDRESS=Plaza De Los Ferroviarios 1
 \, Oviedo\, Asturias\, 33003\, España;X-APPLE-RADIUS=100;X-TITLE=Hotel AC
  Fórum Oviedo:geo:0,0
END:VEVENT
BEGIN:VTIMEZONE
TZID:Europe/Madrid
X-LIC-LOCATION:Europe/Madrid
BEGIN:STANDARD
DTSTART:20251026T020000
TZOFFSETFROM:+0200
TZOFFSETTO:+0100
TZNAME:CET
END:STANDARD
END:VTIMEZONE
END:VCALENDAR