BEGIN:VCALENDAR
VERSION:2.0
PRODID:-//wp-events-plugin.com//7.2.3.1//EN
TZID:Europe/Madrid
X-WR-TIMEZONE:Europe/Madrid
BEGIN:VEVENT
UID:122@aedipeasturias.es
DTSTART;TZID=Europe/Madrid:20241212T093000
DTEND;TZID=Europe/Madrid:20241212T120000
DTSTAMP:20241209T222949Z
URL:https://www.aedipeasturias.es/eventos/planes-de-igualdad-protocolo-lgt
 bi/
SUMMARY:Planes de Igualdad: PROTOCOLO LGTBI
DESCRIPTION:\n\nDe la mano de nuestro ponente Guzmán Felgueroso\, explorar
 emos:\n\n 	Sentencias judiciales clave sobre la negociación de planes de 
 igualdad.\n 	Protocolos de acoso laboral\, sexual y por razón de sexo.\n 
 	Planes de igualdad LGTBI: normativa y su aplicación práctica en el ento
 rno laboral\n\nUna oportunidad única para actualizar conocimientos\, gene
 rar impacto positivo en tu organización y fomentar un entorno más inclus
 ivo.\n\nFechas y horarios:\n\nLunes 12 de diciembre\, 09:30h\n\nFormato: P
 resencial\n\nLugar: Cámara de Comercio de Gijón.\n\nInscripciones dispon
 ibles  en la web de la Cámara de Gijón\, link aquí.
ATTACH;FMTTYPE=image/jpeg:https://www.aedipeasturias.es/wp-content/uploads
 /2024/11/5-jueves-diciembre.png
LOCATION:Cámara de Comercio\, Ctra. Piles al Infanzón\, 652\, Gijón\, As
 turias 33203\, Gijón\, España\,  33203\, Principado de Asturias \, Espa
 ña
X-APPLE-STRUCTURED-LOCATION;VALUE=URI;X-ADDRESS=Ctra. Piles al Infanzón\, 
 652\, Gijón\, Asturias 33203\, Gijón\, España\,  33203\, Principado de 
 Asturias \, España;X-APPLE-RADIUS=100;X-TITLE=Cámara de Comercio:geo:0,0
END:VEVENT
BEGIN:VTIMEZONE
TZID:Europe/Madrid
X-LIC-LOCATION:Europe/Madrid
BEGIN:STANDARD
DTSTART:20241027T020000
TZOFFSETFROM:+0200
TZOFFSETTO:+0100
TZNAME:CET
END:STANDARD
END:VTIMEZONE
END:VCALENDAR