BEGIN:VCALENDAR
VERSION:2.0
PRODID:-//wp-events-plugin.com//7.2.3.1//EN
TZID:Europe/Madrid
X-WR-TIMEZONE:Europe/Madrid
BEGIN:VEVENT
UID:120@aedipeasturias.es
DTSTART;TZID=Europe/Madrid:20241107T093000
DTEND;TZID=Europe/Madrid:20241107T110000
DTSTAMP:20241029T103943Z
URL:https://www.aedipeasturias.es/eventos/novedades-laborales-para-2025/
SUMMARY:Novedades laborales para 2025
DESCRIPTION:¡Prepárate para las Novedades Laborales de 2025!\n\nEn colabo
 ración con Vaciero\, te invitamos a una jornada informativa presencial en
  la que abordaremos los cambios para los que debe prepararse el panorama l
 aboral de cara a este 2025.\n\nHablaremos sobre la reducción de jornada a
  38\,5 horas\, la retribución de permisos parentales\, la cotización por
  solidaridad\, y las posibles mejoras en indemnizaciones por despido. Tamb
 ién revisaremos la nueva obligación de implementar un Protocolo de igual
 dad y no discriminación LGTBI+ para empresas de más de 50 personas.\n\n\
 n\n\n\nÚnete a esta jornada y descubre cómo estas novedades afectarán l
 a gestión de tu empresa y el talento humano.\n\nFecha y horarios:\n\nJuev
 es 7  de Noviembre: De 09:30 a 11:00 \n\nFormato: Presencial\n\nPlazas l
 imitadas\n\nLa reserva de plaza se hará efectiva por estricto orden de re
 cepción\ncompleta de la documentación requerida.\n\nReserva tu plaza a t
 ravés del enlace.\n\n\n\n\n
CATEGORIES:Colaboración,Formación
LOCATION:Oficinas Vaciero\, Calle Caso\, 3\, Oviedo\, Asturias\, Oviedo\, 3
 3006 \, Principado de Asturias \, España
X-APPLE-STRUCTURED-LOCATION;VALUE=URI;X-ADDRESS=Calle Caso\, 3\, Oviedo\, A
 sturias\, Oviedo\, 33006 \, Principado de Asturias \, España;X-APPLE-RADI
 US=100;X-TITLE=Oficinas Vaciero:geo:0,0
END:VEVENT
BEGIN:VTIMEZONE
TZID:Europe/Madrid
X-LIC-LOCATION:Europe/Madrid
BEGIN:STANDARD
DTSTART:20241027T020000
TZOFFSETFROM:+0200
TZOFFSETTO:+0100
TZNAME:CET
END:STANDARD
END:VTIMEZONE
END:VCALENDAR