BEGIN:VCALENDAR
VERSION:2.0
PRODID:-//wp-events-plugin.com//7.2.3.1//EN
TZID:Europe/Madrid
X-WR-TIMEZONE:Europe/Madrid
BEGIN:VEVENT
UID:94@aedipeasturias.es
DTSTART;TZID=Europe/Madrid:20230623T090000
DTEND;TZID=Europe/Madrid:20230623T100000
DTSTAMP:20230622T165631Z
URL:https://www.aedipeasturias.es/eventos/noticias-de-nuestras-entidades-c
 olaboradoras/
SUMMARY:Noticias de nuestras entidades colaboradoras
DESCRIPTION:Estimado/a asociado/a de AEDIPE Asturias:\n\n&nbsp\;\n\nTras el
  parón obligado por la pandemia\, la movilidad internacional en el mundo 
 empresarial se está reactivando. Aunque muchas organizaciones están reev
 aluando la utilidad y necesidad de estos viajes de negocios y la movilidad
  internacional\, este perfil de profesionales sigue siendo necesario para 
 apoyar la estrategia global de las organizaciones así como la expansión 
 y desarrollo en nuevos mercados.\n\nLas empresas\, por su parte\, están o
 bligadas a planificar la prevención y la evaluación de los riesgos inher
 entes al trabajo\, así como a establecer medidas de acción preventiva 
 adecuadas a la naturaleza de los riesgos detectados y el control de la efe
 ctividad de dichas medidas.\n\nEsta obligación\, conocida como Duty of ca
 re\, debe cumplirse antes\, durante y con posterioridad al desplazamiento 
 profesional y es un concepto legal que deriva de la Directiva Europea 89/
 391/CEE\, sobre salud y seguridad en el trabajo\, y de la Ley de Prevenci
 ón de Riesgos Laborales 31/1995 en España.\n\nSi ya antes de la pandemi
 a\, los trabajadores demandaban viajar protegidos y seguros ante cualquier
  contingencia\, hoy\, parece impensable\, que estos se desplacen sin conta
 r con una amplia cobertura de los riesgos inherentes al desplazamiento\, c
 on especial foco en las contingencias personales. Además\, la reciente en
 cuesta realizada por Aon sobre tendencias y predicciones futuras de movili
 dad internacional\, apunta\, entre otras cuestiones\, que los retos clave 
 que identifican las organizaciones\, son la capacidad de trabajar y guiar 
 a alguien en un desplazamiento\, el cumplimiento legal y normativo\, la sa
 lud de los empleados\, la contención de costes\, el acceso a la asistenci
 a sanitaria y las prestaciones aseguradas.\n\nEl equipo de Movilidad Inter
 nacional de Aon ha desarrollado soluciones y productos propios que cubren 
 todas las necesidades de la empresa y el viajero en estas situaciones y cu
 enta con una dilatada experiencia asesorando a las principales empresas es
 pañolas y protegiendo a sus trabajadores\, tanto en sus viajes internacio
 nales\, como en sus asignaciones de expatriación.  Son más de 7.700 los
  trabajadores expatriados\, de empresas españolas\, distribuidos en 120 p
 aíses que cuentan con la protección de soluciones implementadas por Aon 
 España.\n\nUna de las soluciones más utilizadas cuando hablamos de viaje
 ros de negocios que se desplazan en periodos cortos (hasta 180 días al a
 ño)\, es el seguro de asistencia en viaje. En el mercado asegurador encon
 traremos un buen número de soluciones\, que con mayor o menor alcance y d
 iferentes formas de aseguramiento pueden facilitar la asistencia a nuestro
 s empleados desplazados\, sin embargo\, no todas dan un debido cumplimient
 o a las necesidades cada día más exigentes de la empresa y sus viajeros.
 \n\nAon\, en colaboración con aseguradoras especialistas\, ha diseñado u
 n seguro de Asistencia en Viaje\, Travel Protect\, que por su sencillez y 
 amplias coberturas es la solución más completa del mercado\,\n\n 	Poliza
  de grupo\, anual no regularizable e innominada\, simplificando la gestió
 n administrativa\, una sola póliza para todas las sociedades del grupo\, 
 si las hubiese\, tanto nacionales como extranjeras. No es necesario comuni
 car la relación de viajes realizados durante la anualidad\, ni las altas 
 y bajas de empleados\, evitando\, de esta forma\, problemas en la tramitac
 ión de siniestros por errores u omisiones en el alta de los trabajadores.
 \n 	Definición amplia de asegurado\, la póliza cubre tanto al personal a
 salariado\, como a los directivos\, a los acompañantes de estos y en gene
 ral al personal que viaja por cuenta del Tomador en un Viaje de negocios a
 unque no mantenga relación laboral con é\n 	Ámbito geográfico\, Cobert
 ura mundial muy amplia\, incluyendo viajes a países sancionados como Cuba
 \, Irán\, Siria\, Corea del Norte\, Sudán del Norte y territorio de Crim
 ea.\n 	Cobertura de gastos médicos\, Ilimitados sin franquicia. Cobertura
  de enfermedades preexistentes o crónicas: se presta siempre la atención
  médica necesaria para la estabilización del paciente (no sólo en los c
 asos de urgencia vital). Continuidad en la cobertura de Gastos médicos en
  el país de residencia del Asegurado:20.000 €.\n 	Mayores coberturas\, 
 no establece límites por edad de los asegurados ni por enfermedades preex
 istentes. Se cubren las extensiones vacacionales\, realizadas por el asegu
 rado en conexión con un viaje de negocios hasta un periodo máximo de 15 
 días. Se cubre el regreso anticipado del asegurado por una relación muy 
 amplia de asegurados\, etc.\n 	Menor número de exclusiones\, Travel Prote
 ct no establece exclusiones en la práctica de deportes como aficionado\, 
 VIH\, fenómenos de la naturaleza\, riesgo nuclear\, bacteriológico\, qu
 ímico y biológico o acontecimientos considerados como catástrofe o cala
 midad nacional. Quedan\, también\, incluidas\, las enfermedades o acciden
 tes sobrevenidos en el ejercicio de una profesión de carácter manual\, l
 os rescates de personas en montañas\, simas\, selvas o desiertos\n 	Lími
 tes económicos por garantía más elevados del mercado\,\n\n\n 	\n\n 	has
 ta 3.500 € por pérdida de efectos profesionales\, facturados o no\, dur
 ante el viaje.\n 	hasta 5.000 € por el uso fraudulento de tarjetas finan
 cieras y/o cheques.\n 	Regreso anticipado del asegurado y sustitución del
  mismo hasta 10.000 €\n 	Prolongación de estancia\, hasta 400 € /día
 \n 	Gastos por franquicia vehículo de alquiler\, hasta 1.000 € por veh
 ículo\n 	Etc.\n\n\n\n&nbsp\;\n\nPara profundizar en esta solución diseñ
 ada por Aon o para cualquier aclaración sobre dicha solución\, pueden co
 ntactar con nuestra oficina en Asturias en el correo electrónico santiago
 .merediz.palacios@aon.es.\n\n&nbsp\;\n\nAtentamente\,\n\n&nbsp\;\n\nFranci
 sco Rodriguez Menéndez\n\nDirector Aon Asturias\n\n&nbsp\;
CATEGORIES:Colaboración
END:VEVENT
BEGIN:VTIMEZONE
TZID:Europe/Madrid
X-LIC-LOCATION:Europe/Madrid
BEGIN:DAYLIGHT
DTSTART:20230326T030000
TZOFFSETFROM:+0100
TZOFFSETTO:+0200
TZNAME:CEST
END:DAYLIGHT
END:VTIMEZONE
END:VCALENDAR