BEGIN:VCALENDAR
VERSION:2.0
PRODID:-//wp-events-plugin.com//7.2.3.1//EN
TZID:Europe/Madrid
X-WR-TIMEZONE:Europe/Madrid
BEGIN:VEVENT
UID:96@aedipeasturias.es
DTSTART;TZID=Europe/Madrid:20231005T093000
DTEND;TZID=Europe/Madrid:20231005T100000
DTSTAMP:20231005T075504Z
URL:https://www.aedipeasturias.es/eventos/noticias-de-nuestras-entidades-c
 olaboradoras-2/
SUMMARY:Noticias de nuestras entidades colaboradoras
DESCRIPTION:Estimado/a asociado/a\,\n\n \n\nLos programas de seguros de sa
 lud suelen renovarse\, en su mayoría\, a 1 de enero. Desde Aon queremos h
 aceros participes del informe de situación actual del mercado de seguros 
 de salud\, y los incrementos que seguramente veamos. Es un informe que anu
 almente elaboramos para nuestros clientes.\n\n \n\nResumimos las claves p
 ara 2024 que recogemos y ampliamos en el informe adjunto:\n\n \n\n 	Incre
 mento de los costes de las asistencias\, por los incrementos que están ap
 licando hospitales y especialistas a las compañías aseguradoras. Ver IPC
 s en el documento.\n 	Incremento de la frecuencia de uso de los servicios 
 médicos privados\, debido a que la SS no da respuesta suficiente y por un
 a mayor preocupación por el cuidado de la salud.\n 	Utilización de tecno
 logías de mayor coste en las intervenciones.\n 	Alta demanda de servicios
  de psicología. El uso de este servicio normalmente agota las sesiones di
 sponibles (20 sesiones usualmente) y eso ya supone la prima anual.\n 	Enfe
 rmedades cada vez más cronificadas que requieren seguimiento y consultas 
 reiteradas\, así como el envejecimiento de las plantillas.\n 	La Ley de o
 lvido oncológico ha hecho que las compañías doten provisiones y sean me
 nos moderadas en sus incrementos base\, ya que no están seguros de cómo 
 les va a repercutir.\n\n \n\nCon este panorama\, las compañías estiman 
 un incremento BASE para sus carteras. Este incremento base puede rondar en
 tre el 5 y el 8%\, dependiendo de las compañías\, a partir de ahí\, ent
 ra en juego la siniestralidad de cada colectivo\, es decir\, el uso que se
  haya hecho. \n\n \n\nEsperamos sea de ayuda.\n\n \n\nPara cualquier con
 sulta\, pueden contactar conmigo directamente en la dirección de correo e
 lectrónico franciscojavier.rodriguez@aon.es o en el teléfono 650413317.\
 n\n \n\nAtentamente\,\n\n \n\nFrancisco Rodríguez Menéndez\n\nDirector
  Aon Asturias\n\n&nbsp\;\n\nAdjuntamos  informe sobre la situación actua
 l del mercado de seguros de salud y lo que se espera para las renovaciones
  de 1 de enero\n\n[pdf-embedder url="https://www.aedipeasturias.es/wp-cont
 ent/uploads/2023/10/SALUD-Renov.-2024-1.pdf" title="SALUD Renov. 2024"]\n\
 n&nbsp\;
CATEGORIES:Colaboración
END:VEVENT
BEGIN:VTIMEZONE
TZID:Europe/Madrid
X-LIC-LOCATION:Europe/Madrid
BEGIN:DAYLIGHT
DTSTART:20230326T030000
TZOFFSETFROM:+0100
TZOFFSETTO:+0200
TZNAME:CEST
END:DAYLIGHT
END:VTIMEZONE
END:VCALENDAR