BEGIN:VCALENDAR
VERSION:2.0
PRODID:-//wp-events-plugin.com//7.2.3.1//EN
TZID:Europe/Madrid
X-WR-TIMEZONE:Europe/Madrid
BEGIN:VEVENT
UID:113@aedipeasturias.es
DTSTART;TZID=Europe/Madrid:20241003T190000
DTEND;TZID=Europe/Madrid:20241003T213000
DTSTAMP:20241002T065540Z
URL:https://www.aedipeasturias.es/eventos/magia-y-talento-celebrando-a-nue
 stros-asociados/
SUMMARY:Magia y Talento: Celebrando a Nuestros Asociados
DESCRIPTION:\n\nEstimad@ asociad@\,\n\nEl próximo 3 de octubre te esperamo
 s para disfrutar juntos un día mágico y lleno de ilusión. Desde Aedipe 
 Asturias queremos celebrar a nuestros asociados y el camino que hemos reco
 rrido (y recorremos cada día) juntos.\n\nNos espera una jornada redonda c
 on la actuación de El Ilusionista que no nos dejará indiferentes\, podre
 mos disfrutar de un cocktail en el que conversar y compartir un tiempo de 
 calidad con nuestros compañeros.\n\nY como todo buen día de ilusión que
  se preste habrá más sorpresas que no os podemos desvelar\, apúntate pa
 ra descubrirlas y\, sobre todo\, disfrutarlas.\n\nFecha: 3 octubre\n\n\nHo
 ra: 19:00 h\n\nLugar: AC Hotel Oviedo Forum (Plaza De Los Ferroviarios\, 
 1)\n\nPor favor\, realiza tu inscripción antes del miércoles 2 de octub
 re  para que podamos prepara todo para celebrar tú día como te mereces.
 \n\n&nbsp\;\n\n&nbsp\;
CATEGORIES:Día del Asociado/a
LOCATION:Hotel AC Fórum Oviedo\, Plaza De Los Ferroviarios 1\, Oviedo\, As
 turias\, 33003\, España
X-APPLE-STRUCTURED-LOCATION;VALUE=URI;X-ADDRESS=Plaza De Los Ferroviarios 1
 \, Oviedo\, Asturias\, 33003\, España;X-APPLE-RADIUS=100;X-TITLE=Hotel AC
  Fórum Oviedo:geo:0,0
END:VEVENT
BEGIN:VTIMEZONE
TZID:Europe/Madrid
X-LIC-LOCATION:Europe/Madrid
BEGIN:DAYLIGHT
DTSTART:20240331T030000
TZOFFSETFROM:+0100
TZOFFSETTO:+0200
TZNAME:CEST
END:DAYLIGHT
END:VTIMEZONE
END:VCALENDAR