BEGIN:VCALENDAR
VERSION:2.0
PRODID:-//wp-events-plugin.com//7.2.3.1//EN
TZID:Europe/Madrid
X-WR-TIMEZONE:Europe/Madrid
BEGIN:VEVENT
UID:64@aedipeasturias.es
DTSTART;TZID=Europe/Madrid:20220425T110000
DTEND;TZID=Europe/Madrid:20220425T123000
DTSTAMP:20220418T100008Z
URL:https://www.aedipeasturias.es/eventos/las-competencias-digitales-en-la
 s-organizaciones-nuevas-necesidades-y-recursos/
SUMMARY:Las Competencias Digitales en las Organizaciones: Nuevas Necesidade
 s y Recursos.
DESCRIPTION:Objetivos: \nFundae tiene nuevos recursos en competencias digit
 ales en abierto y gratuitos. Además ha firmado convenios con grandes tecn
 ológicas que ceden cursos en abierto y gratuitos. Las grandes empresas pu
 eden ser empresas formadoras tractoras de las pymes y de las microempresas
 . Actualmente hay dos convocatorias abiertas para ERTES y compromiso de co
 ntratación y estas convocatorias van a cargo de los NEXT GENERATION.\n\nE
 n este webinar se tratarán en la mesa debate las siguientes temáticas:\n
 \n- Cómo afecta a la formación los nuevos tiempos post pandemia: temáti
 cas\, tecnología\, metodologías\, proveedores\, recursos formativos\, et
 c.\n\n- Necesidades de las empresas que no se cubren por parte del SEPE y 
 de FUNDAE. Propuestas.\n\n- Importancia de la formación en la empresa par
 a su competitividad.\nIntervienen:\n- Luis de Sá\, Presidente de Aedipe A
 sturias.\n\n- Antonio de Luis Acevedo\, Director Gerente Fundae.\n\n- Gera
 rdo Gutierrez Ardoy\, Director Gerente SEPE. Participantes en la mesa deba
 te:\n\n- José L. Roza Varela\, Director Corporativo de personas y cultura
  en GAM.\n\n- Alejandro Sánchez Cuenca\, Head of ArcelorMittal University
  Spain.\n\n- Alicia Palacios Sánchez\, Gerencia y Dirección RRHH Hoteles
  Nature.\n\nInscripciones en el siguiente enlace:\n\n\n\nOrganizado por AE
 DIPE Asturias y Fundae.
ATTACH;FMTTYPE=image/jpeg:https://www.aedipeasturias.es/wp-content/uploads
 /2022/04/cartel.jpeg
CATEGORIES:Webinar
END:VEVENT
BEGIN:VTIMEZONE
TZID:Europe/Madrid
X-LIC-LOCATION:Europe/Madrid
BEGIN:DAYLIGHT
DTSTART:20220327T030000
TZOFFSETFROM:+0100
TZOFFSETTO:+0200
TZNAME:CEST
END:DAYLIGHT
END:VTIMEZONE
END:VCALENDAR