BEGIN:VCALENDAR
VERSION:2.0
PRODID:-//wp-events-plugin.com//7.2.3.1//EN
TZID:Europe/Madrid
X-WR-TIMEZONE:Europe/Madrid
BEGIN:VEVENT
UID:81@aedipeasturias.es
DTSTART;TZID=Europe/Madrid:20221129T093000
DTEND;TZID=Europe/Madrid:20221129T110000
DTSTAMP:20221121T182724Z
URL:https://www.aedipeasturias.es/eventos/la-ley-del-si-es-si-en-la-empres
 a-la-nueva-reforma-del-codigo-penal-protocolo-antiacoso-y-sistemas-de-prev
 encion-de-delitos/
SUMMARY:La Ley del Sí es Sí en la empresa: La nueva reforma del Código P
 enal\, Protocolo Antiacoso y  Sistemas de Prevención de Delitos
DESCRIPTION:\n\nVaciero y AEDIPE Asturias organizan el evento: La Ley del S
 í es Sí en la empresa: La nueva reforma del Código Penal\, Protocolo An
 tiacoso y Sistemas de Prevención de Delitos\n\nEn el seminario participar
 án Leticia del Estal\, Socia de Derecho Compliance de VACIERO y Belén Fr
 aga\, Socia de Derecho Laboral.\n\nFUENTE: AEDIPE Asturias\n\nAUTOR: Letic
 ia del Estal y Belén Fraga\n\nEl pasado 9 de octubre\, entró en vigor la
  Ley Orgánica 10/2022\, de 6 de septiembre\, de garantía integral de la 
 libertad sexual\, a través de la cual se ha modificado el código penal p
 ara ampliar el catálogo de delitos por el que podrán responder las perso
 nas jurídicas.\n\nA partir de ahora\, las empresas también podrán tener
  responsabilidad por delitos contra la integridad moral\, el acoso sexual 
 y la nueva conducta de revelación de secretos\, cuando no cuenten con med
 idas eficaces para prevenirlos o evitarlos y se den los requisitos que est
 ablece el Código Penal para ello. A la vista de lo anterior\, es necesari
 o recoger estos delitos en el catálogo e incluir las medidas de control e
 n este ámbito\, entre otras los Protocolos antiacoso.\n\nEn esta jornada\
 , abordaremos como tratar estos temas en la práctica.\n\nPrograma\n\nPres
 entador: Pedro Gallo\, Vocal de la Junta Directiva de AEDIPE Asturias\n
 \nPonentes:\n\nLeticia del Estal\, Socia del Departamento de Compliance\n\
 nBelén Fraga\, Socia del Departamento de Laboral\n\n- Nuevas conductas de
  acoso que generan responsabilidad penal en las empresas. Medidas para evi
 tarla.\n\n- Elaboración de Protocolos antiacoso en la empresa\, como herr
 amienta incluida en el Plan de Igualdad o fuera de él.\n\nMás Informaci
 ón:\n\nFecha: 29 de noviembre 2022\n\nHora: 9:30-11 horas\n\nLugar: Cas
 o\, 3 Montecerrao\, Oviedo\n\nSi quieres acudir a la Jornada envía un ema
 il a mnlagos@vaciero.es\n\n*Plazas limitadas
CATEGORIES:Colaboración,Formación
END:VEVENT
BEGIN:VTIMEZONE
TZID:Europe/Madrid
X-LIC-LOCATION:Europe/Madrid
BEGIN:STANDARD
DTSTART:20221030T020000
TZOFFSETFROM:+0200
TZOFFSETTO:+0100
TZNAME:CET
END:STANDARD
END:VTIMEZONE
END:VCALENDAR