BEGIN:VCALENDAR
VERSION:2.0
PRODID:-//wp-events-plugin.com//7.2.3.1//EN
TZID:Europe/Madrid
X-WR-TIMEZONE:Europe/Madrid
BEGIN:VEVENT
UID:100@aedipeasturias.es
DTSTART;TZID=Europe/Madrid:20231116T093000
DTEND;TZID=Europe/Madrid:20231116T103000
DTSTAMP:20231108T084002Z
URL:https://www.aedipeasturias.es/eventos/la-formacion-en-alternancia-prof
 esionales-cualificados-para-impulsar-la-competitividad-de-las-empresas/
SUMMARY:La Formación en Alternancia: profesionales cualificados para impul
 sar la competitividad de las empresas
DESCRIPTION:\n\n\n\n\n&nbsp\;\n\nAEDIPE y Femxa organizan el webinar gratui
 to “La Formación en Alternancia: profesionales cualificados para impuls
 ar la competitividad de las empresas” el próximo 16 de noviembre de 202
 3 a las 09:30h en formato online.\n\nEn este encuentro analizaremos los di
 ferentes beneficios que\, para la empresa\, aporta la adopción de los con
 tratos de formación en alternancia como modalidad contractual complementa
 ria. Además\, comentaremos las ventajas económicas y las últimas noveda
 des sobre bonificaciones que entraron en vigor el 1 de septiembre de 2023.
 \n\n\nEl programa será el siguiente:\n\n·         09:30 h Apertu
 ra institucional a cargo de Óscar Díaz\, presidente de AEDIPE Cantabria 
 y Secretario General de AEDIPE.\n\n·         09:40 h Ponencia: 
 “Claves y nuevas mejoras en beneficios empresariales de los contratos de
  formación en alternancia” con Patricia García\, presidenta institucio
 nal de Femxa.\n\n·         10:05 h Ponencia: “Aspectos jurídic
 os y legales de los contratos de formación en alternancia” de la mano d
 e Ignacio Carvajal\, director en el departamento de derecho laboral de Pw
 C España e Inspector de trabajo en excedencia.\n\n·         10:2
 0 h Turno de preguntas\n\n10:30 h Fin de la jornada\n\n¡No te lo pierdas 
 e inscríbete ya!\n\n\nInscripciones:\n\nhttps://lnkd.in/dmBg2Fga\n\n&nbsp
 \;\n\n\n
CATEGORIES:Webinar
END:VEVENT
BEGIN:VTIMEZONE
TZID:Europe/Madrid
X-LIC-LOCATION:Europe/Madrid
BEGIN:STANDARD
DTSTART:20231029T020000
TZOFFSETFROM:+0200
TZOFFSETTO:+0100
TZNAME:CET
END:STANDARD
END:VTIMEZONE
END:VCALENDAR