BEGIN:VCALENDAR
VERSION:2.0
PRODID:-//wp-events-plugin.com//7.2.3.1//EN
TZID:Europe/Madrid
X-WR-TIMEZONE:Europe/Madrid
BEGIN:VEVENT
UID:99@aedipeasturias.es
DTSTART;TZID=Europe/Madrid:20231129T093000
DTEND;TZID=Europe/Madrid:20231129T110000
DTSTAMP:20231103T094057Z
URL:https://www.aedipeasturias.es/eventos/jornada-transparencia-retributiv
 a/
SUMMARY:Jornada "Transparencia retributiva"
DESCRIPTION:Se ha publicado la Directiva (UE) 2023/970 de transparencia sal
 arial\, con vigencia desde  el  23-5-2023.\n\nSu finalidad es establecer
  los requisitos mínimos para reforzar la aplicación del principio de igu
 aldad de retribución por un mismo trabajo o un trabajo de igual valor ent
 re hombres y mujeres.\n\n¿Qué deben hacer las empresas para estar listas
  de cara a su entrada en vigor?\n\n&nbsp\;\n\nTe invitamos a esta Jornada 
 sobre "Transparencia retributiva" organizada junto con nuestro patrocinado
 r Aon en el Hotel AC Oviedo Forum\, el próximo 29 de noviembre a las 9:30
  h en Oviedo.\n\nParticipan en la Jornada:\n\nPonente: Jorge Herraiz Romer
 o Director Reward &amp\; Performance Iberia Aon\n\nConclusiones: Francisco
  J. Rodríguez Menéndez Director Aon Asturias\nAl terminar la jornada se 
 celebrará un café networking.\n\n\n\nEl aforo está limitado\, ¡No te 
 quedes sin tu entrada!\nInscripciones: https://forms.office.com/r/5uv69G6
 2PA\nTe esperamos el próximo 29 de noviembre.\n
CATEGORIES:Colaboración
END:VEVENT
BEGIN:VTIMEZONE
TZID:Europe/Madrid
X-LIC-LOCATION:Europe/Madrid
BEGIN:STANDARD
DTSTART:20231029T020000
TZOFFSETFROM:+0200
TZOFFSETTO:+0100
TZNAME:CET
END:STANDARD
END:VTIMEZONE
END:VCALENDAR