BEGIN:VCALENDAR
VERSION:2.0
PRODID:-//wp-events-plugin.com//7.2.3.1//EN
TZID:Europe/Madrid
X-WR-TIMEZONE:Europe/Madrid
BEGIN:VEVENT
UID:80@aedipeasturias.es
DTSTART;TZID=Europe/Madrid:20221201T143000
DTEND;TZID=Europe/Madrid:20221201T163000
DTSTAMP:20221116T210853Z
URL:https://www.aedipeasturias.es/eventos/jornada-las-nuevas-tendencias-de
 -engagement-empleados/
SUMMARY:Jornada: Las nuevas tendencias de engagement empleados
DESCRIPTION:\nLas nuevas tendencias de engagement empleados\nSe analizarán
  las tendencias en materia de compensación y beneficios\, basadas en el i
 nforme Employee Experience 2022\, que recoge el estado y percepción de lo
 s empleados españoles\, con respecto a su empresa\, negocio y todos aquel
 los elementos que afectan el engagement\, en el presente y futuro.\nPlazas
  limitadas a asociad@s de Aedipe Asturias.\nInscripciones en el siguiente 
 enlace:\nhttps://qxkegcltjt8.typeform.com/to/FhQ0yU25
CATEGORIES:Colaboración
END:VEVENT
BEGIN:VTIMEZONE
TZID:Europe/Madrid
X-LIC-LOCATION:Europe/Madrid
BEGIN:STANDARD
DTSTART:20221030T020000
TZOFFSETFROM:+0200
TZOFFSETTO:+0100
TZNAME:CET
END:STANDARD
END:VTIMEZONE
END:VCALENDAR