BEGIN:VCALENDAR
VERSION:2.0
PRODID:-//wp-events-plugin.com//7.2.3.1//EN
TZID:Europe/Madrid
X-WR-TIMEZONE:Europe/Madrid
BEGIN:VEVENT
UID:91@aedipeasturias.es
DTSTART;TZID=Europe/Madrid:20230518T183000
DTEND;TZID=Europe/Madrid:20230518T200000
DTSTAMP:20230504T160117Z
URL:https://www.aedipeasturias.es/eventos/jornada-de-celebracion-del-dia-i
 nternacional-de-los-recursos-humanos-ganando-la-guerra-por-el-talento-estr
 ategias-de-atraccion-y-fidelizacion-en-recursos-humanos/
SUMMARY:Jornada del Día Internacional de los Recursos Humanos: "Ganando la
  guerra por el talento: Estrategias de atracción y fidelización en Recur
 sos Humanos"
DESCRIPTION:\n\nJornada exclusiva para asociados/as de Aedipe Asturias.\n\n
 Programa:\n\n18:30 h Bienvenida Luis de Sá Presidente de Aedipe Asturias\
 n\n18:35 h Conferencia “Competencias emocionales como factor predictor\n
 del éxito profesional” con Jéssica Buelga Psicóloga y Consultora de T
 alento.\n\n18:55 h Conferencia “Atracción y compromiso del talento juni
 or” con\nPaloma Martínez Responsable de Desarrollo de negocio en Kalan 
 Prevención.\n\n19:15 h Mesa debate: "Ganando la guerra por el talento: Es
 trategias de\natracción y fidelización en Recursos Humanos"\n\nParticipa
 n:\n\n 	Marián Hurlé Regional Human Resources Business Partner Merkle Es
 paña\n 	Pablo García Vicepresidente de FADE\n 	Begoña Cueto Vicerrector
 a de transferencia y relaciones con la empresa de la Universidad de Oviedo
 \n\nModera: Luis de Sá Presidente de Aedipe Asturias y Jefe de Recursos H
 umanos de Saint-Gobain Sekurit.\n\n20 h Vino español\n\nAforo limitado. I
 mprescindible estar asociado/a para la inscripción en la Jornada.
ATTACH;FMTTYPE=image/jpeg:https://www.aedipeasturias.es/wp-content/uploads
 /2023/05/Imagen-web.png
CATEGORIES:Día Internacional de los RRHH
LOCATION:Real Club de Tenis de Oviedo\, C/ General Zubillaga 3\, Oviedo\, E
 spaña
X-APPLE-STRUCTURED-LOCATION;VALUE=URI;X-ADDRESS=C/ General Zubillaga 3\, Ov
 iedo\, España;X-APPLE-RADIUS=100;X-TITLE=Real Club de Tenis de Oviedo:geo
 :0,0
END:VEVENT
BEGIN:VTIMEZONE
TZID:Europe/Madrid
X-LIC-LOCATION:Europe/Madrid
BEGIN:DAYLIGHT
DTSTART:20230326T030000
TZOFFSETFROM:+0100
TZOFFSETTO:+0200
TZNAME:CEST
END:DAYLIGHT
END:VTIMEZONE
END:VCALENDAR