BEGIN:VCALENDAR
VERSION:2.0
PRODID:-//wp-events-plugin.com//7.2.3.1//EN
TZID:Europe/Madrid
X-WR-TIMEZONE:Europe/Madrid
BEGIN:VEVENT
UID:95@aedipeasturias.es
DTSTART;TZID=Europe/Madrid:20230921T113000
DTEND;TZID=Europe/Madrid:20230921T133000
DTSTAMP:20230905T124255Z
URL:https://www.aedipeasturias.es/eventos/jornada-closingap-impacto-de-la-
 igualdad-en-el-crecimiento-empresarial/
SUMMARY:JORNADA CLOSINGAP: IMPACTO DE LA IGUALDAD EN EL CRECIMIENTO EMPRESA
 RIAL
DESCRIPTION:\n\nJornada organizada por Cámara de Comercio\, Industria y Na
 vegación de Gijón en colaboración con AEDIPE  Asturias el próximo dí
 a 21 de septiembre de 11:30 a 13:30 h en la sede de la Cámara de Gijón.\
 nOBJETIVOS:\nEl objetivo de la jornada es impulsar un cambio significativ
 o en la cultura empresarial\, particularmente en las pymes\, fomentando la
  adopción de prácticas que permitan a las empresas ser más competitivas
  y sostenibles desde la igualdad de género.\nPROGRAMA:\n-11: 30 h. Recepc
 ión de asistentes \n\n-12: 00 h. Introducción y Bienvenida.  La inaugu
 ración inicial será liderada por D. Félix Baragaño\, presidente de Cá
 mara de Comercio de Gijón y Dª. Pilar García de la Puebla\, directora d
 e Comunicación Corporativa y Relaciones Institucionales de BMW Group en E
 spaña.\n\n-12:15. Programa central: Dª. Pilar García de la Puebla. (Bu
 enas prácticas del Toolkit ClosinGap orientado a pymes como herramientas 
 prácticas para impulsar la igualdad y promover el talento femenino en pym
 es).\n\n-12:35 h. Mesa Inspiracional: \n\nModerador: D. Balbino González
  Sáez\, vicepresidente de AEDIPE Asturias.\n\nPonentes:\n\n 	Dª. Amelia 
 Ozores Fernández\, HR Manager de Chemours Spain.\n 	Dª. Marian Hurlé D
 íaz\, HRBP Merkle España.\n 	D. Pedro Gallo Alvaro\, Director de Recurso
 s Humanos de EMTUSA.\n\n13:05 h. Conclusiones y cierre institucional\n\n13
 :15 h. Vino español \n\nAforo limitado\, se requiere inscripción:\n\nht
 tps://www.camaragijon.es/es/agenda/cargarAplicacionAgenda.do?identificador
 =868&amp\;utm_campaign=closingap&amp\;utm_medium=email&amp\;utm_source=acu
 mbamail\n\n&nbsp\;
ATTACH;FMTTYPE=image/jpeg:https://www.aedipeasturias.es/wp-content/uploads
 /2023/09/closingap.jpg
CATEGORIES:Colaboración
END:VEVENT
BEGIN:VTIMEZONE
TZID:Europe/Madrid
X-LIC-LOCATION:Europe/Madrid
BEGIN:DAYLIGHT
DTSTART:20230326T030000
TZOFFSETFROM:+0100
TZOFFSETTO:+0200
TZNAME:CEST
END:DAYLIGHT
END:VTIMEZONE
END:VCALENDAR