BEGIN:VCALENDAR
VERSION:2.0
PRODID:-//wp-events-plugin.com//7.2.3.1//EN
TZID:Europe/Madrid
X-WR-TIMEZONE:Europe/Madrid
BEGIN:VEVENT
UID:61@aedipeasturias.es
DTSTART;TZID=Europe/Madrid:20220217T093000
DTEND;TZID=Europe/Madrid:20220217T113000
DTSTAMP:20220207T095959Z
URL:https://www.aedipeasturias.es/eventos/jornada-aspectos-basicos-de-la-r
 eforma-laboral/
SUMMARY:Jornada: ASPECTOS BÁSICOS DE LA REFORMA LABORAL
DESCRIPTION:Jornada de colaboración con Cámara de Comercio de Gijón y Ll
 ana Consultores.\nEl Pleno del Congreso de los Diputados ha convalidado es
 te pasado jueves día 3 el Real Decreto-ley que modifica la reforma labora
 l del año 2012: El objetivo de esta jornada será explicar con detalle to
 das las novedades que incluye este Real Decreto 32/2021.\nFecha: jueves 1
 7 de febrero\nHora: 9:30 a 11:30 h\nLugar: Centro de Formación de la Cám
 ara de Gijón.\n&nbsp\;\nPrograma de la Jornada\n\n 	9:30 horas: Presenta
 ción institucional\n\n 	D. Félix Baragaño\, Presidente de la Cámara de
  Comercio de Gijón\n 	D. Marcelino Fernández\, Director territorial zona
  Gijon de Caja Rural\n\n\n\n&nbsp\;\n\n 	9:45 horas: Aspectos básicos 
 de la reforma laboral\n\n 	D. Luis Antuña Maese\, Socio Director Área Ju
 rídico Laboral y de Personas de Llana Consultores\n\n\n\n&nbsp\;\n\n 	10:
 45 horas: Pendiente de Título\n\n 	D. ª Adelia García González\, Jefe
  de Inspección de Trabajo y Seguridad Social del Principado de Asturias.\
 n\n\n\n&nbsp\;\n\n 	Presenta y modera la jornada: Marcos Óscar Martínez
  Álvarez - Presidente del Colegio de Graduados Sociales de Asturias.\n\n&
 nbsp\;\n\n¡¡¡Plazas limitadas!!!\n\n&nbsp\;\n\nInscripciones: https://
 n9.cl/2uj8q\n\n&nbsp\;
ATTACH;FMTTYPE=image/jpeg:https://www.aedipeasturias.es/wp-content/uploads
 /2022/02/labroal3.jpg
CATEGORIES:Colaboración
END:VEVENT
BEGIN:VTIMEZONE
TZID:Europe/Madrid
X-LIC-LOCATION:Europe/Madrid
BEGIN:STANDARD
DTSTART:20211031T020000
TZOFFSETFROM:+0200
TZOFFSETTO:+0100
TZNAME:CET
END:STANDARD
END:VTIMEZONE
END:VCALENDAR