BEGIN:VCALENDAR
VERSION:2.0
PRODID:-//wp-events-plugin.com//7.2.3.1//EN
TZID:Europe/Madrid
X-WR-TIMEZONE:Europe/Madrid
BEGIN:VEVENT
UID:65@aedipeasturias.es
DTSTART;TZID=Europe/Madrid:20220420T000000
DTEND;TZID=Europe/Madrid:20220429T000000
DTSTAMP:20220420T095549Z
URL:https://www.aedipeasturias.es/eventos/iv-concurso-de-cuentos-y-relatos
 -cortos-infantil-y-juvenil-mi-trabajo-del-futuro/
SUMMARY:IV Concurso de cuentos y relatos cortos infantil y juvenil "Mi trab
 ajo del futuro".
DESCRIPTION:Comenzamos con las actividades para la celebración del Día In
 ternacional de los Recursos Humanos que se celebra el próximo 20 de mayo.
  \nAEDIPE convoca el IV Concurso Infantil y Juvenil de cuentos y relatos c
 ortos "Mi trabajo en el futuro". \nLas bases están publicadas en https:/
 /lnkd.in/d5WFZas5\n\n¡Animad a vuestros/as hijos/as a participar antes de
 l 29 de abril! \n\nPodrán ganar un juego LEGO y la publicación de su rel
 ato. \n\nPreguntas: \n\n¿Qué te gustaría ser de mayor? \n\n¿Cómo es u
 n día cualquiera en tu trabajo del futuro? \n\n¿Qué será lo que más t
 e guste de tu profesión? \n\nCon los relatos ganadores se editará un lib
 ro de cuentos digital que compartiremos con todos vosotros para recordarno
 s por qué la profesión de Recursos Humanos es tan importante. \n\n¡Espe
 ramos con ilusión vuestros relatos!\n\n&nbsp\;
ATTACH;FMTTYPE=image/jpeg:https://www.aedipeasturias.es/wp-content/uploads
 /2022/04/cartel_cc_2022-002.png
CATEGORIES:Día Internacional de los RRHH
END:VEVENT
BEGIN:VTIMEZONE
TZID:Europe/Madrid
X-LIC-LOCATION:Europe/Madrid
BEGIN:DAYLIGHT
DTSTART:20220327T030000
TZOFFSETFROM:+0100
TZOFFSETTO:+0200
TZNAME:CEST
END:DAYLIGHT
END:VTIMEZONE
END:VCALENDAR