BEGIN:VCALENDAR
VERSION:2.0
PRODID:-//wp-events-plugin.com//7.2.3.1//EN
TZID:Europe/Madrid
X-WR-TIMEZONE:Europe/Madrid
BEGIN:VEVENT
UID:54@aedipeasturias.es
DTSTART;TZID=Europe/Madrid:20211214T090000
DTEND;TZID=Europe/Madrid:20211214T140000
DTSTAMP:20211114T002518Z
URL:https://www.aedipeasturias.es/eventos/importante-colaboracion-remunera
 da-feria-de-la-fp-dual/
SUMMARY:Importante: Hazte Tutor - Colaboración remunerada - Feria de la FP
  Dual
DESCRIPTION:\n\nDesde Aedipe Asturias\, como asociad@ queremos proponerte e
 sta actividad remunerada\, ya que precisamos de tu colaboración para ser 
 "TUTOR".\n\nCada tutor (necesitaremos 6 tutores)\, tiene que buscar 8 empr
 esas para acudir a la "Feria de la FP DUAL"\, dicho evento está organiza
 do por la Camara de Comercio de Gijón\, y se celebrará el día 14/12/202
 1 en horario de 9:00 a 14:00.\n\n\n\nSi estás interesad@ en participar co
 mo tutor por favor envía un email a comunicacion@aedipeasturias.es antes 
 del día 17/11/2021\n\n\n\n¿Cuál es la misión del tutor? Lo primero bus
 car 8 empresas de cualquier tipo autónomos\, pymes\, micropyme\, etc y ac
 ompañarlas en el evento entregándoles una ficha que al final deben recog
 er y posteriormente se dará a los miembros de la cámara. Este es el just
 ificante de que se acudió al evento.\n\n¿Qué empresas? Empresas de Gij
 ón\, Carreño y Langreo\n\n¿Existe algún material que se pueda entregar
  a las empresas? Sí\, pero antes se hará una reunión via zoom el jueves
  18/11/2021 a las 17:00 donde miembros de la cámara explicarán el evento
  y darán dicha documentación. Además en el evento propiamente dicho se 
 entregará también documentación.\n\n¿El tutor tendrá remuneración? S
 í\, percibirá remuneración por esta colaboración.\n\n\n\nRECUERDA: Si 
 estás interesad@ en participar como tutor por favor envía un email a com
 unicacion@aedipeasturias.es antes del día 17/11/2021\n\n\n\nMuchas gracia
 s por tu participación!
ATTACH;FMTTYPE=image/jpeg:https://www.aedipeasturias.es/wp-content/uploads
 /2021/11/aedipe-asturias-colaboracion.jpg
CATEGORIES:Colaboración
END:VEVENT
BEGIN:VTIMEZONE
TZID:Europe/Madrid
X-LIC-LOCATION:Europe/Madrid
BEGIN:STANDARD
DTSTART:20211031T020000
TZOFFSETFROM:+0200
TZOFFSETTO:+0100
TZNAME:CET
END:STANDARD
END:VTIMEZONE
END:VCALENDAR