BEGIN:VCALENDAR
VERSION:2.0
PRODID:-//wp-events-plugin.com//7.2.3.1//EN
TZID:Europe/Madrid
X-WR-TIMEZONE:Europe/Madrid
BEGIN:VEVENT
UID:88@aedipeasturias.es
DTSTART;TZID=Europe/Madrid:20230330T193000
DTEND;TZID=Europe/Madrid:20230330T203000
DTSTAMP:20230328T184424Z
URL:https://www.aedipeasturias.es/eventos/hr-people-afterwork/
SUMMARY:HR People Afterwork
DESCRIPTION:HR People Afterwork\, un espacio de networking entre profesiona
 les de recursos humanos\nHR people es el evento afterwork exclusivo para a
 sociados/as de Aedipe Asturias que realizaremos periódicamente un jueves 
 de cada mes de 19:30 a 20:30 h.\n\nCrearemos un espacio para que los profe
 sionales de Recursos Humanos intercambien experiencias y puedan compartir 
 retos\, dudas\, resultados e inquietudes de forma abierta y cercana\, adem
 ás de aumentar su red de contactos.\n\nNuestro fin es generar networking 
 y tratar las tendencias más punteras en la profesión\, siempre mirando a
 l presente y al futuro de RRHH.\n\n
ATTACH;FMTTYPE=image/jpeg:https://www.aedipeasturias.es/wp-content/uploads
 /2023/03/Instagram-Afterwork-30-marzo.png
CATEGORIES:AfterWork
LOCATION:Hotel Barceló Oviedo Cervantes\, C. Cervantes\, 13\, Oviedo\, 330
 04\, España
X-APPLE-STRUCTURED-LOCATION;VALUE=URI;X-ADDRESS=C. Cervantes\, 13\, Oviedo\
 , 33004\, España;X-APPLE-RADIUS=100;X-TITLE=Hotel Barceló Oviedo Cervant
 es:geo:0,0
END:VEVENT
BEGIN:VTIMEZONE
TZID:Europe/Madrid
X-LIC-LOCATION:Europe/Madrid
BEGIN:DAYLIGHT
DTSTART:20230326T030000
TZOFFSETFROM:+0100
TZOFFSETTO:+0200
TZNAME:CEST
END:DAYLIGHT
END:VTIMEZONE
END:VCALENDAR