BEGIN:VCALENDAR
VERSION:2.0
PRODID:-//wp-events-plugin.com//7.2.3.1//EN
TZID:Europe/Madrid
X-WR-TIMEZONE:Europe/Madrid
BEGIN:VEVENT
UID:35@aedipeasturias.es
DTSTART;TZID=Europe/Madrid:20210419T090000
DTEND;TZID=Europe/Madrid:20210420T130000
DTSTAMP:20210328T000211Z
URL:https://www.aedipeasturias.es/eventos/hr-analytics-fundamentos-y-ejemp
 los-de-uso/
SUMMARY:Aula Virtual - HR Analytics: fundamentos y ejemplos de uso
DESCRIPTION:https://seresco.es/webinar-buenas-practicas-ciberseguridad-rrhh
ATTACH;FMTTYPE=image/jpeg:https://www.aedipeasturias.es/wp-content/uploads
 /2021/03/Asturias-AV-People-Analytics-DT-2-scaled.jpg
CATEGORIES:Aula Virtual
END:VEVENT
BEGIN:VTIMEZONE
TZID:Europe/Madrid
X-LIC-LOCATION:Europe/Madrid
BEGIN:DAYLIGHT
DTSTART:20210328T030000
TZOFFSETFROM:+0100
TZOFFSETTO:+0200
TZNAME:CEST
END:DAYLIGHT
END:VTIMEZONE
END:VCALENDAR