BEGIN:VCALENDAR
VERSION:2.0
PRODID:-//wp-events-plugin.com//7.2.3.1//EN
TZID:Europe/Madrid
X-WR-TIMEZONE:Europe/Madrid
BEGIN:VEVENT
UID:20@aedipeasturias.es
DTSTART;TZID=Europe/Madrid:20200520T183000
DTEND;TZID=Europe/Madrid:20200520T183000
DTSTAMP:20200515T221504Z
URL:https://www.aedipeasturias.es/eventos/gestion-de-personas-en-remoto-nu
 evos-contextos-nuevos-retos/
SUMMARY:Gestión de personas en remoto: nuevos contextos\, nuevos retos
DESCRIPTION:Inscripción &gt\; Click AQUÍ\n\n
CATEGORIES:Webinar
END:VEVENT
BEGIN:VTIMEZONE
TZID:Europe/Madrid
X-LIC-LOCATION:Europe/Madrid
BEGIN:DAYLIGHT
DTSTART:20200329T030000
TZOFFSETFROM:+0100
TZOFFSETTO:+0200
TZNAME:CEST
END:DAYLIGHT
END:VTIMEZONE
END:VCALENDAR