BEGIN:VCALENDAR
VERSION:2.0
PRODID:-//wp-events-plugin.com//7.2.3.1//EN
TZID:Europe/Madrid
X-WR-TIMEZONE:Europe/Madrid
BEGIN:VEVENT
UID:106@aedipeasturias.es
DTSTART;TZID=Europe/Madrid;VALUE=DATE:20231222
DTEND;TZID=Europe/Madrid;VALUE=DATE:20231223
DTSTAMP:20231221T110312Z
URL:https://www.aedipeasturias.es/eventos/felicitacion-navidena/
SUMMARY:Felicitación Navideña
DESCRIPTION:Desde Aedipe Asturias os deseamos a todos una\nFeliz Navidad y 
 un próspero año 2024.\nQue este año nuevo que se acerca nos traiga a to
 dos\nmás oportunidades de crecimiento y éxito compartido.\n&nbsp\;\n\n
END:VEVENT
BEGIN:VTIMEZONE
TZID:Europe/Madrid
X-LIC-LOCATION:Europe/Madrid
BEGIN:STANDARD
DTSTART:20231029T020000
TZOFFSETFROM:+0200
TZOFFSETTO:+0100
TZNAME:CET
END:STANDARD
END:VTIMEZONE
END:VCALENDAR