BEGIN:VCALENDAR
VERSION:2.0
PRODID:-//wp-events-plugin.com//7.2.3.1//EN
TZID:Europe/Madrid
X-WR-TIMEZONE:Europe/Madrid
BEGIN:VEVENT
UID:123@aedipeasturias.es
DTSTART;TZID=Europe/Madrid;VALUE=DATE:20241225
DTEND;TZID=Europe/Madrid;VALUE=DATE:20241226
DTSTAMP:20241217T084808Z
URL:https://www.aedipeasturias.es/eventos/felices-fiestas-de-parte-de-aedi
 pe-asturias/
SUMMARY:¡Felices Fiestas de parte de Aedipe Asturias!
DESCRIPTION:\n\nLlegamos al cierre de este año celebrando lo que verdadera
 mente importa: las personas. Cada logro alcanzado\, cada conexión forjada
  y cada emoción compartida han dado forma a un 2024 lleno de inspiración
 .\n\nDe parte de todo el equipo de Aedipe Asturias\, queremos agradecerte 
 por ser parte de nuestra comunidad.\n\nPorque juntos\, construimos un lide
 razgo transformador que impulsa el talento y la innovación.\n\nQue este 2
 025 sea un año lleno de oportunidades\, éxito y pasos firmes hacia un fu
 turo más inclusivo y humano.\n\n¡Felices Fiestas!
CATEGORIES:Miscelaneus
END:VEVENT
BEGIN:VTIMEZONE
TZID:Europe/Madrid
X-LIC-LOCATION:Europe/Madrid
BEGIN:STANDARD
DTSTART:20241027T020000
TZOFFSETFROM:+0200
TZOFFSETTO:+0100
TZNAME:CET
END:STANDARD
END:VTIMEZONE
END:VCALENDAR