BEGIN:VCALENDAR
VERSION:2.0
PRODID:-//wp-events-plugin.com//7.2.3.1//EN
TZID:Europe/Madrid
X-WR-TIMEZONE:Europe/Madrid
BEGIN:VEVENT
UID:23@aedipeasturias.es
DTSTART;TZID=Europe/Madrid:20201107T000000
DTEND;TZID=Europe/Madrid:20201107T000000
DTSTAMP:20201002T172541Z
URL:https://www.aedipeasturias.es/eventos/fecha-limite-para-presentacion-d
 e-candidaturas/
SUMMARY:Fecha límite para presentación de candidaturas
DESCRIPTION:
CATEGORIES:Asamblea
END:VEVENT
BEGIN:VTIMEZONE
TZID:Europe/Madrid
X-LIC-LOCATION:Europe/Madrid
BEGIN:STANDARD
DTSTART:20201025T020000
TZOFFSETFROM:+0200
TZOFFSETTO:+0100
TZNAME:CET
END:STANDARD
END:VTIMEZONE
END:VCALENDAR