BEGIN:VCALENDAR
VERSION:2.0
PRODID:-//wp-events-plugin.com//7.2.3.1//EN
TZID:Europe/Madrid
X-WR-TIMEZONE:Europe/Madrid
BEGIN:VEVENT
UID:84@aedipeasturias.es
DTSTART;TZID=Europe/Madrid:20230125T093000
DTEND;TZID=Europe/Madrid:20230125T113000
DTSTAMP:20230120T105415Z
URL:https://www.aedipeasturias.es/eventos/evento-talento-internacional-ten
 dencias-y-desafios-de-la-movilidad-y-del-trabajo-internacional/
SUMMARY:Evento - "Talento Internacional: Tendencias y desafíos de la movil
 idad y del trabajo internacional"
DESCRIPTION:\n\nEn el proceso de internacionalización de empresas y organ
 izaciones\, la movilidad internacional de sus trabajadores se está convir
 tiendo en una pieza clave en la estrategia y cultura corporativa. Las empr
 esas y los profesionales del área de movilidad internacional necesitan tr
 asladar a su personal a aquellos lugares en que el negocio lo requiera y t
 ambién necesitan contratar talento allí donde se encuentre\, así como t
 rabajar con menor tiempo de reacción y adquirir nuevos conocimientos con 
 mayor rapidez.\n\nDesde el IPM Club de Aon\, Garrigues y Chubb y en cola
 boración con Aedipe Asturias te invitamos al próximo encuentro sobre T
 alento Internacional que celebraremos en Oviedo.\n\nAbordaremos puntos cl
 ave para hacer frente a estos desafíos\, así como los nuevos temas que h
 an surgido con fuerza en el sector\, como son las novedades legislativas e
 n materia tributaria o el teletrabajo internacional.\n\n\n\nParticipan:\n\
 n 	Sandra Botas Álvarez\, Directora del departamento de Gestión de pers
 onas en Seresco\n 	Natalia Redondo Canal\, Directora de Servicios Corpora
 tivos y RRHH en Imasa\n 	Jorge García Martínez\, Vocal de la Junta dire
 ctiva Aedipe Asturias\n 	Carlos Vergara\, Business Development Manager\, 
 A&amp\;H Corporate Spain &amp\; Portugal en Chubb\n 	Alfonso Jesús Vallau
 re Fernández\, Asociado Principal en Garrigues\n 	Francisco J. Rodriguez
  Menendez\, Director Aon Asturias\n 	Javier Flores\, Director de Global 
 Mobility en Aon\n 	Carmen Cruz\, International People Mobility Manager en
  Aon\n\n\n\n\nAl terminar la jornada se celebrará un café networking.\n\
 nEl aforo está limitado\, ¡No te quedes sin tu entrada!\n\n- REGISTRO -
  \n\n\n\nTe esperamos el próximo 25 de enero.\n\n\n\n&nbsp\;
CATEGORIES:Colaboración
END:VEVENT
BEGIN:VTIMEZONE
TZID:Europe/Madrid
X-LIC-LOCATION:Europe/Madrid
BEGIN:STANDARD
DTSTART:20221030T020000
TZOFFSETFROM:+0200
TZOFFSETTO:+0100
TZNAME:CET
END:STANDARD
END:VTIMEZONE
END:VCALENDAR