BEGIN:VCALENDAR
VERSION:2.0
PRODID:-//wp-events-plugin.com//7.2.3.1//EN
TZID:Europe/Madrid
X-WR-TIMEZONE:Europe/Madrid
BEGIN:VEVENT
UID:48@aedipeasturias.es
DTSTART;TZID=Europe/Madrid:20210923T120000
DTEND;TZID=Europe/Madrid:20210923T130000
DTSTAMP:20210914T112843Z
URL:https://www.aedipeasturias.es/eventos/estrategias-de-gamificacion-para
 -la-gestion-del-talento/
SUMMARY:ESTRATEGIAS DE GAMIFICACIÓN PARA LA GESTIÓN DEL TALENTO
DESCRIPTION:OBJETIVOS: Conoce el verdadero potencial de la Gamificación co
 mo técnica para la gestión de RR.HH. en las áreas de onboarding\, train
 ing y motivación.\n\nAprende a diseñar una estrategia de Gamificación p
 ara tu empresa. La gamificación no es solamente para empresas digitales y
  multinacionales\, sino también para PYMES.\n\nMide resultados de tu camp
 aña de Gamificación y consigue mejorar la gestión del Talento.\n\nPROGR
 AMA:\n\n1. ¿Qué es la Gamificación? Tipos de Gamificación\, marketing\
 , Recursos Humanos\, formación\, selección. La Gamificación y su capaci
 dad de modificar el comportamiento de las personas y de motivarlos a conse
 guir retos.\n\n2. Aprende a diseñar metodologías\, sistemas gamificados 
 de recompensas\, premios y retos para que los individuos se sientan atraí
 dos y motivados a participar y utilizar “tu juego”.\n\n3. Mecánicas d
 e Gamificación: retos\, niveles\, puntos\, customización\, clasificacion
 es\, insignias\, medallas\, generar engagement. Estrategias útiles para h
 acer más divertido\, estimulante el uso o la compra de un determinado pro
 ducto\, servicio\, aplicación o APP.\n\n4. Como crear una estrategia de G
 AMIFICACIÓN\, física o mixta para generar en tus usuarios una reacción 
 positiva y divertida\, aportando valor a tu empresa\, negocio o marca.\n\n
 5. Mide tus resultados. Cómo obtener una analítica de datos\, KPIs de Re
 cursos Humanos tendencias gracias a la Gamificación CASOS DE ÉXITO: Se a
 nalizarán casos de éxito\, Recursos Humanos\, formación\, etc.\n\nIMPAR
 TE: Juan Pablo Villa Casal\, Socio fundador de TALENT ENTERPRISE\, escrito
 r y conferenciante. PRESENTA: Pedro Gallo\, Vocal de AEDIPE Asturias.\n\nT
 ras la exposición\, los asistentes tendrán la oportunidad de enviar sus 
 preguntas al ponente.
ATTACH;FMTTYPE=image/jpeg:https://www.aedipeasturias.es/wp-content/uploads
 /2021/09/cartel-Linkedin.jpeg
CATEGORIES:Webinar
END:VEVENT
BEGIN:VTIMEZONE
TZID:Europe/Madrid
X-LIC-LOCATION:Europe/Madrid
BEGIN:DAYLIGHT
DTSTART:20210328T030000
TZOFFSETFROM:+0100
TZOFFSETTO:+0200
TZNAME:CEST
END:DAYLIGHT
END:VTIMEZONE
END:VCALENDAR