BEGIN:VCALENDAR
VERSION:2.0
PRODID:-//wp-events-plugin.com//7.2.3.1//EN
TZID:Europe/Madrid
X-WR-TIMEZONE:Europe/Madrid
BEGIN:VEVENT
UID:26@aedipeasturias.es
DTSTART;TZID=Europe/Madrid:20201015T160000
DTEND;TZID=Europe/Madrid:20201015T190000
DTSTAMP:20201002T174324Z
URL:https://www.aedipeasturias.es/eventos/disrhupcion-total-navegando-en-l
 a-incertidumbre/
SUMMARY:'DisRHupción Total: Navegando en la incertidumbre'
DESCRIPTION:\n\n5 razones para no perderse el evento:\n1. Conocer cuál es 
 la mejor organización empresarial para afrontar los nuevos desafíos.\n2.
  Aprender a tomar decisiones en escenarios de gran incertidumbre.\n3. Afro
 ntar los retos a los que se enfrenta la función de RRHH.\n4. Experimentar
  un formato pionero: evento de TV con retransmisión global desde cualquie
 r dispositivo.\n5. Tener la oportunidad de hacer networking y compartir co
 nocimientos con grandes profesionales nacionales e internacionales.\n\nhtt
 ps://mailchi.mp/885867abed34/disrhupciontotal-update2020
ATTACH;FMTTYPE=image/jpeg:https://www.aedipeasturias.es/wp-content/uploads
 /2020/10/rhdisr.png
CATEGORIES:Formación,Webinar
END:VEVENT
BEGIN:VTIMEZONE
TZID:Europe/Madrid
X-LIC-LOCATION:Europe/Madrid
BEGIN:DAYLIGHT
DTSTART:20200329T030000
TZOFFSETFROM:+0100
TZOFFSETTO:+0200
TZNAME:CEST
END:DAYLIGHT
END:VTIMEZONE
END:VCALENDAR