BEGIN:VCALENDAR
VERSION:2.0
PRODID:-//wp-events-plugin.com//7.2.3.1//EN
TZID:Europe/Madrid
X-WR-TIMEZONE:Europe/Madrid
BEGIN:VEVENT
UID:66@aedipeasturias.es
DTSTART;TZID=Europe/Madrid:20220519T173000
DTEND;TZID=Europe/Madrid:20220519T203000
DTSTAMP:20220510T085222Z
URL:https://www.aedipeasturias.es/eventos/dia-internacional-de-los-rr-hh-s
 alud-mental-y-bienestar-organizacional-asignatura-pendiente-en-la-empresa/
SUMMARY:Día Internacional de los RR.HH. "SALUD MENTAL Y BIENESTAR ORGANIZA
 CIONAL\, ASIGNATURA PENDIENTE EN LA EMPRESA"
DESCRIPTION:[pdf-embedder url="https://www.aedipeasturias.es/wp-content/upl
 oads/2022/05/IHRD-AEDIPE-Asturias-3.pdf" title="IHRD AEDIPE Asturias (3)"]
 \n\n&nbsp\;\n\n&nbsp\;
END:VEVENT
BEGIN:VTIMEZONE
TZID:Europe/Madrid
X-LIC-LOCATION:Europe/Madrid
BEGIN:DAYLIGHT
DTSTART:20220327T030000
TZOFFSETFROM:+0100
TZOFFSETTO:+0200
TZNAME:CEST
END:DAYLIGHT
END:VTIMEZONE
END:VCALENDAR