BEGIN:VCALENDAR
VERSION:2.0
PRODID:-//wp-events-plugin.com//7.2.3.1//EN
TZID:Europe/Madrid
X-WR-TIMEZONE:Europe/Madrid
BEGIN:VEVENT
UID:67@aedipeasturias.es
DTSTART;TZID=Europe/Madrid:20220520T000000
DTEND;TZID=Europe/Madrid:20220520T000000
DTSTAMP:20220520T103749Z
URL:https://www.aedipeasturias.es/eventos/dia-internacional-de-los-recurso
 s-humanos-20-de-mayo/
SUMMARY:Día Internacional de los Recursos Humanos 20 de mayo
DESCRIPTION:\n\n\n\n\n\nHoy celebramos el Día Internacional de los Recurs
 os Humanos (#InternationalHRDay #HRTogether) y desde AEDIPE queremos ha
 certe llegar nuestra más sincera felicitación y reconocimiento por tu la
 bor como profesional de la función de dirección de personas en las organ
 izaciones\, capital siempre\, pero especialmente valiosa en estos tiempos 
 de cambio.\n\nTe deseamos mucho éxito profesional y personal y\, aquí en
  AEDIPE\, siempre tendrás un espacio para formarte y compartir experienci
 as con otros profesionales como tú.\n\n¡Feliz día de nuestra profesión
 !\n\n\n\n&nbsp\;\n\n
END:VEVENT
BEGIN:VTIMEZONE
TZID:Europe/Madrid
X-LIC-LOCATION:Europe/Madrid
BEGIN:DAYLIGHT
DTSTART:20220327T030000
TZOFFSETFROM:+0100
TZOFFSETTO:+0200
TZNAME:CEST
END:DAYLIGHT
END:VTIMEZONE
END:VCALENDAR