BEGIN:VCALENDAR
VERSION:2.0
PRODID:-//wp-events-plugin.com//7.2.3.1//EN
TZID:Europe/Madrid
X-WR-TIMEZONE:Europe/Madrid
BEGIN:VEVENT
UID:92@aedipeasturias.es
DTSTART;TZID=Europe/Madrid:20230609T190000
DTEND;TZID=Europe/Madrid:20230609T220000
DTSTAMP:20230605T094922Z
URL:https://www.aedipeasturias.es/eventos/dia-del-asociad/
SUMMARY:Día del Asociad@ AEDIPE Asturias 2023
DESCRIPTION:¡Celebremos juntos el Día del Asociad@!\nEs un honor para nos
 otros invitarte a un evento muy especial: la celebración del Día del Aso
 ciad@ de nuestra querida asociación. Este día nos brinda la oportunidad
  de reunirnos y compartir momentos de compañerismo y apoyo mutuo.\nFecha:
  9 de junio\nHora: 19 h \nLugar: Palacio de las Nieves Carretera de Pajom
 al\, sn\, 33930 Langreo\n\n\n&nbsp\;\n\nEste será un día lleno de activi
 dades emocionantes y enriquecedoras diseñadas exclusivamente para vosotro
 s\, nuestros asociad@s. Contaremos con la ponencia "Creando una cultura de
  bienestar en la empresa" con Juan Luis Jimeno Director en Talengo\, un re
 conocido experto en Recursos Humanos\, quien compartirá su visión y cono
 cimientos sobre las últimas tendencias y desafíos en nuestro campo.\n\nT
 endremos la oportunidad para establecer contactos y ampliar nuestra red pr
 ofesional durante la cena informal de picoteo y se sortearán dos circuito
 s de Spa entre los asociad@s. También recibirán todos los asistentes un
  libro de la biblioteca de Fundipe.\n\nAdemás\, queremos aprovechar esta 
 ocasión especial para agradecerles personalmente por su compromiso\, dedi
 cación y pasión por el desarrollo de los recursos humanos. Es gracias a 
 su participación activa que nuestra asociación ha logrado alcanzar nuevo
 s logros y mantenerse a la vanguardia en nuestro sector.\n\nNos encantarí
 a contar con su presencia en esta celebración especial. Su participación
  hará de este evento un éxito rotundo y fortalecerá aún más nuestra c
 omunidad de recursos humanos. Estamos seguros de que este será un día me
 morable\, lleno de aprendizaje\, networking y momentos de compañerismo.\n
 \n&nbsp\;\nFecha límite de inscripción 2 de Junio\n&nbsp\;\n\nPara confi
 rmar su asistencia es imprescindible la inscripción a través del siguien
 te  formulario:\n\nhttps://forms.gle/Skz5Ls4BS5dhiSFu7\n\nSi desea acudir
  con acompañante deberá realizar una transferencia de 15 euros en concep
 to de reserva de plaza con las indicaciones expresas en el formulario de i
 nscripción.\n\nSi tiene alguna pregunta o necesita más información\, no
  dude en ponerse en contacto con nuestro equipo organizador en comunicacio
 n@aedipeasturias.es\n¡Esperamos con ilusión celebrar el Día del Asociad
 @ junto a vosotr@s y disfrutar de una jornada especial llena de compañeri
 smo y reconocimiento!\n&nbsp\;\n\n&nbsp\;
CATEGORIES:Día del Asociado/a
END:VEVENT
BEGIN:VTIMEZONE
TZID:Europe/Madrid
X-LIC-LOCATION:Europe/Madrid
BEGIN:DAYLIGHT
DTSTART:20230326T030000
TZOFFSETFROM:+0100
TZOFFSETTO:+0200
TZNAME:CEST
END:DAYLIGHT
END:VTIMEZONE
END:VCALENDAR