BEGIN:VCALENDAR
VERSION:2.0
PRODID:-//wp-events-plugin.com//7.2.3.1//EN
TZID:Europe/Madrid
X-WR-TIMEZONE:Europe/Madrid
BEGIN:VEVENT
UID:74@aedipeasturias.es
DTSTART;TZID=Europe/Madrid:20221019T093000
DTEND;TZID=Europe/Madrid:20221019T104500
DTSTAMP:20221013T090228Z
URL:https://www.aedipeasturias.es/eventos/design-thinking-al-servicio-de-r
 rhh/
SUMMARY:Design Thinking al servicio de RRHH
DESCRIPTION:Aedipe Asturias y Aedipe Catalunya os presentamos este webinar 
 "Design Thinking al servicio de RRHH". Cómo\, desde RRHH\, podemos ser lo
 s líderes del cambio.\nOrganizamos este webinar para conocer cómo la cre
 atividad se entrena\, cómo ponerla al servicio del negocio y cómo lidera
 r este proceso desde RRHH.\n\nFecha: miércoles\, 19 de octubre de 2022\nH
 orario: de 9:30 a 10:45 h.\nFormato: online\n\nUn reciente estudio de la c
 onsultora Galup muestra que el 61% de los empleados sienten que se les exi
 ge ser más creativos en su puesto de trabajo. Efectivamente\, cada vez m
 ás se demanda a las empresas ser creativas y tener nuevas ideas\, pero no
  siempre se las dota de los recursos necesarios.\n\nLos nuevos problemas n
 ecesitan soluciones más innovadoras. Por eso\, más que nunca es importan
 te que los líderes inspiren pensamiento creativo\, que animen a su equipo
  a explorar problemas desde múltiples ángulos y pensar “fuera de la ca
 ja”. Y así\, diferenciarse de la competencia\, avanzar con nuevas ideas
  y propuestas para adecuar sus estrategias a las necesidades del mercado y
  sus clientes\, y generar más ventas.\n\nGracias a metodologías de pensa
 miento divergente\, como Design Thinking\, se puede generar un mindset\, u
 na actitud creativa\, en las empresas. Podemos empoderar a nuestros colabo
 radores con las habilidades tan necesarias hoy en día para superar cualqu
 ier reto con creatividad\, empatía\, resiliencia y el poder de la iniciat
 iva. Y podemos liderar este cambio desde RRHH.\n\n&nbsp\;\n\nEn esta sesi
 ón inspiracional:\n\n• Veremos cómo la creatividad es más estructurad
 a de lo que parece\, y descubriremos metodologías que aportan un marco de
  trabajo para ser más creativo.\n• Abordaremos los puntos clave para em
 poderar con pensamiento disruptivo y herramientas creativas a los líderes
 \, equipos\, personas\, que forman las empresas del mañana.\n• Reflexio
 naremos sobre la importancia del profesional de RRHH como facilitador del 
 cambio en todos los departamentos de la empresa y transcender a todos los 
 equipos.\n\nEn definitiva\, cómo la creatividad se entrena y cómo ponerl
 a al servicio del negocio.\n\n&nbsp\;\nPROGRAMA\n9:30 h. Presentación de 
 la jornada\n\nPere Ribes\, Presidente de Aedipe Catalunya\n\n9:35 h. Desig
 n Thinking al servicio de los RRHH: competencias estratégicas para el cam
 bio\n\nDiana Pinos\, experta en Design Thinking y procesos de co-creación
 \n\n10:15 h. Experiencia empresarial inspiradora\n\nRuth Barrera\, HRBP Fu
 ndación Bancaria «la Caixa»\n\n10:30 h. Turno abierto de preguntas\n\n&
 nbsp\;\n\nPuedes reservar tu plaza a través del siguiente enlace: \n\nUna
  vez validada la solicitud recibirás\, en tu correo de inscripción\, el 
 enlace para conectarte a la sesión.\n\nPlazas limitadas. Una vez alcanzad
 o el máximo de plazas se cerrará la posibilidad de inscripción a la ses
 ión.
ATTACH;FMTTYPE=image/jpeg:https://www.aedipeasturias.es/wp-content/uploads
 /2022/10/20221019-WT-Design-thinking-DT.jpg
CATEGORIES:Webinar
END:VEVENT
BEGIN:VTIMEZONE
TZID:Europe/Madrid
X-LIC-LOCATION:Europe/Madrid
BEGIN:DAYLIGHT
DTSTART:20220327T030000
TZOFFSETFROM:+0100
TZOFFSETTO:+0200
TZNAME:CEST
END:DAYLIGHT
END:VTIMEZONE
END:VCALENDAR