BEGIN:VCALENDAR
VERSION:2.0
PRODID:-//wp-events-plugin.com//7.2.3.1//EN
TZID:Europe/Madrid
X-WR-TIMEZONE:Europe/Madrid
BEGIN:VEVENT
UID:18@aedipeasturias.es
DTSTART;TZID=Europe/Madrid:20200514T090000
DTEND;TZID=Europe/Madrid:20200514T090000
DTSTAMP:20200512T220339Z
URL:https://www.aedipeasturias.es/eventos/desayuno-virtual/
SUMMARY:Desayuno Virtual
DESCRIPTION:
CATEGORIES:Miscelaneus
END:VEVENT
BEGIN:VTIMEZONE
TZID:Europe/Madrid
X-LIC-LOCATION:Europe/Madrid
BEGIN:DAYLIGHT
DTSTART:20200329T030000
TZOFFSETFROM:+0100
TZOFFSETTO:+0200
TZNAME:CEST
END:DAYLIGHT
END:VTIMEZONE
END:VCALENDAR