BEGIN:VCALENDAR
VERSION:2.0
PRODID:-//wp-events-plugin.com//7.2.3.1//EN
TZID:Europe/Madrid
X-WR-TIMEZONE:Europe/Madrid
BEGIN:VEVENT
UID:56@aedipeasturias.es
DTSTART;TZID=Europe/Madrid:20211125T091500
DTEND;TZID=Europe/Madrid:20211125T101500
DTSTAMP:20211119T084849Z
URL:https://www.aedipeasturias.es/eventos/del-teletrabajo-a-la-oficina-nue
 vos-retos-en-la-gestion-para-los-directores-de-rrhh/
SUMMARY:Del teletrabajo a la oficina: nuevos retos en la gestión para los 
 directores de RRHH.
DESCRIPTION:AEDIPE Asturias y Vaciero organizan el desayuno: "Del teletraba
 jo a la oficina: nuevos retos en la gestión para los directores de RRHH".
 \n\nTras la entrada en vigor de la nueva Ley del Teletrabajo el pasado m
 es de julio son muchas preguntas las que ha se han hecho los Directores
  de RRHH sobre su aplicación práctica\, las obligaciones que tiene la e
 mpresa a la hora de implementar este sistema y qué deben hacer los trabaj
 adores para acogerse a este sistema\, de una manera completa a o mediante 
 una fórmula mixta.\n\nEn este desayuno se darán respuesta a todas aquell
 as inquietudes que han surgido en torno a esta modalidad de trabajo\, cons
 ecuencia tanto de su aplicación en pandemia como de la publicación de la
  nueva norma. En definitiva\, veremos cómo afecta al papel que desempeña
 n los directores de recursos humanos en su día a día.\n\nEn el evento pa
 rticipará Luis de Sá\, Presidente de AEDIPE Asturias\, junto a Belén 
 Fraga\, Socia de Derecho Laboral de Vaciero\, y a Arturo Ordoñez\, Direc
 tor Jurídico y Recursos Humanos de IDESA.\n\nEl desayuno es presencial y 
 cuenta con plazas limitadas.\n\nSi deseas asistir al encuentro\, puedes co
 nfirmar tu asistencia enviando un correo a jcalin@vaciero.es o llamando 
 al 985 96 31 83.\n\nFecha: Jueves 25 de noviembre de 2021\n\nHora: De 09:1
 5 a 10:15 h\n\nLugar: Sede de Vaciero en Oviedo (Calle Caso 3\, Montecerra
 o)\n\nMás información:\n\nBelén Fraga\n\nSocia de Derecho Laboral de Va
 ciero\n\nbfraga@vaciero.es\n\n&nbsp\;
ATTACH;FMTTYPE=image/jpeg:https://www.aedipeasturias.es/wp-content/uploads
 /2021/11/Del-teletrabajo_Linkedin_1200x627_00-002.jpg
CATEGORIES:Colaboración
END:VEVENT
BEGIN:VTIMEZONE
TZID:Europe/Madrid
X-LIC-LOCATION:Europe/Madrid
BEGIN:STANDARD
DTSTART:20211031T020000
TZOFFSETFROM:+0200
TZOFFSETTO:+0100
TZNAME:CET
END:STANDARD
END:VTIMEZONE
END:VCALENDAR