BEGIN:VCALENDAR
VERSION:2.0
PRODID:-//wp-events-plugin.com//7.2.3.1//EN
TZID:Europe/Madrid
X-WR-TIMEZONE:Europe/Madrid
BEGIN:VEVENT
UID:116@aedipeasturias.es
DTSTART;TZID=Europe/Madrid:20241017T080000
DTEND;TZID=Europe/Madrid:20241018T210000
DTSTAMP:20241016T155631Z
URL:https://www.aedipeasturias.es/eventos/congreso-internacional-de-aedipe
 /
SUMMARY:Congreso Internacional de Aedipe
DESCRIPTION:\n\n¿Estás listo para llevar tu liderazgo al siguiente nivel?
 \n\nDescubre cómo combinar inteligencia artificial e inteligencia emocion
 al puede transformar la gestión de equipos y la toma de decisiones. En el
  congreso\, expertos compartirán cómo esta integración impulsa la efici
 encia\, productividad y bienestar\, y podrás conectar con otros líderes 
 que buscan crear entornos laborales positivos.\n\n¡No te pierdas esta opo
 rtunidad única de crecimiento profesional y personal!
CATEGORIES:Congreso
LOCATION:Palau de la Música\, Valencia\, Pg. de l'Albereda\, 30\, El Pla d
 el Real\, 46023 València\, Valencia\, Valencia\, 46001\, Comunidad Valenc
 iana\, España
X-APPLE-STRUCTURED-LOCATION;VALUE=URI;X-ADDRESS=Pg. de l'Albereda\, 30\, El
  Pla del Real\, 46023 València\, Valencia\, Valencia\, 46001\, Comunidad 
 Valenciana\, España;X-APPLE-RADIUS=100;X-TITLE=Palau de la Música\, Vale
 ncia:geo:0,0
END:VEVENT
BEGIN:VTIMEZONE
TZID:Europe/Madrid
X-LIC-LOCATION:Europe/Madrid
BEGIN:DAYLIGHT
DTSTART:20240331T030000
TZOFFSETFROM:+0100
TZOFFSETTO:+0200
TZNAME:CEST
END:DAYLIGHT
END:VTIMEZONE
END:VCALENDAR