BEGIN:VCALENDAR
VERSION:2.0
PRODID:-//wp-events-plugin.com//7.2.3.1//EN
TZID:Europe/Madrid
X-WR-TIMEZONE:Europe/Madrid
BEGIN:VEVENT
UID:57@aedipeasturias.es
DTSTART;TZID=Europe/Madrid:20211210T090000
DTEND;TZID=Europe/Madrid:20211210T090000
DTSTAMP:20211120T102443Z
URL:https://www.aedipeasturias.es/eventos/colaboracion-encuesta-online-las
 -nuevas-formas-de-trabajar/
SUMMARY:Colaboración: Encuesta online - Las nuevas formas de trabajar
DESCRIPTION:\n¡Participe en nuestro estudio!\nNos ponemos en contacto con 
 usted desde la Asociación Española de Dirección y Desarrollo de Persona
 s (AEDIPE) para pedir su colaboración en un estudio que estamos llevando 
 a cabo sobre LAS NUEVAS FORMAS DE TRABAJAR\, con el objetivo de detectar 
 los cambios en las dinámicas laborales. Su respuesta tendrá una duració
 n aproximada de veinte minutos y es completamente anónima.\nFinalizada la
  encuesta podrá acceder a:\n1. Descarga gratuita del ebook "Claves para g
 estionar el capital humano en modo híbrido".\n2. Inscripciones gratuitas 
 y exclusivas a los Webinars:\n\n\n 	"Modelo híbrido de trabajo\, ¿expect
 ativa o realidad?" con Fernando Trías de Bes y Pedro Ribes. Diciembre de 
 2021.\n 	"Tendencias actuales en las nuevas formas de trabajar" de Future 
 for Work. Enero de 2022.\n\n\n 	Recepción del informe completo de este e
 studio\, una vez finalizado. Diciembre de 2021.\n\n¡Muchas gracias por su
  interés y su colaboración!\n\nLink para participar: https://digitalins
 ights.tesintegra.net/online.php?pid=CON1001&amp\;cod=XQ09OMTAwMQ===&amp\;c
 mp=bbdd
ATTACH;FMTTYPE=image/jpeg:https://www.aedipeasturias.es/wp-content/uploads
 /2021/11/aedipe-asturias-colaboracion.jpg
CATEGORIES:Colaboración
END:VEVENT
BEGIN:VTIMEZONE
TZID:Europe/Madrid
X-LIC-LOCATION:Europe/Madrid
BEGIN:STANDARD
DTSTART:20211031T020000
TZOFFSETFROM:+0200
TZOFFSETTO:+0100
TZNAME:CET
END:STANDARD
END:VTIMEZONE
END:VCALENDAR