BEGIN:VCALENDAR
VERSION:2.0
PRODID:-//wp-events-plugin.com//7.2.3.1//EN
TZID:Europe/Madrid
X-WR-TIMEZONE:Europe/Madrid
BEGIN:VEVENT
UID:32@aedipeasturias.es
DTSTART;TZID=Europe/Madrid:20210225T120000
DTEND;TZID=Europe/Madrid:20210225T130000
DTSTAMP:20210211T212033Z
URL:https://www.aedipeasturias.es/eventos/claves-para-fidelizar-talento-en
 -la-incertidumbre/
SUMMARY:Webinar: "Claves para fidelizar talento en la incertidumbre"
DESCRIPTION:\n\nPROGRAMA\n\nSi hay algo que se ha visto agudizado a raíz d
 e la pandemia sanitaria es la incertidumbre en las organizaciones: no solo
  para estas sino también para los/as profesionales que trabajan en ellas.
  Esa elevada incertidumbre provoca una serie de cambios en la gestión del
  talento que es importante conocer y tener en cuenta para evitar que haya 
 una fuga de talento cuando la situación tienda a normalizarse. En este we
 binar\, presentado por Jéssica Buelga vocal de AEDIPE Asturias\, e impart
 ido por Isabel Iglesias\, Directora de Sirania\, hablaremos de qué pueden
  hacer las empresas para fidelizar talento en momentos como los actuales y
  en un entorno de alta incertidumbre. Así mismo abordaremos aspectos como
  las ventajas que tiene para las organizaciones fidelizar talento y evitar
  que haya una fuga elevada de profesionales altamente valiosos para las em
 presas cuando la recuperación sea una realidad y estrategias específicas
  para conseguir que el talento se quede en las organizaciones.\n\n&nbsp\;\
 n\nPARTICIPANTES\n\n• Jéssica Buelga\, Vocal de AEDIPE Asturias\n\n• 
 Isabel Iglesias\, Directora de Sirania\n\n\n\n\n&nbsp\;\n\nLINK PARA LA IN
 SCRIPCIÓN\n\nhttps://register.gotowebinar.com/register/38103066980955367
 9\n\n\n\n
ATTACH;FMTTYPE=image/jpeg:https://www.aedipeasturias.es/wp-content/uploads
 /2021/02/webinar.jpg
CATEGORIES:Webinar
END:VEVENT
BEGIN:VTIMEZONE
TZID:Europe/Madrid
X-LIC-LOCATION:Europe/Madrid
BEGIN:STANDARD
DTSTART:20201025T020000
TZOFFSETFROM:+0200
TZOFFSETTO:+0100
TZNAME:CET
END:STANDARD
END:VTIMEZONE
END:VCALENDAR