BEGIN:VCALENDAR
VERSION:2.0
PRODID:-//wp-events-plugin.com//7.2.3.1//EN
TZID:Europe/Madrid
X-WR-TIMEZONE:Europe/Madrid
BEGIN:VEVENT
UID:60@aedipeasturias.es
DTSTART;TZID=Europe/Madrid:20220114T180000
DTEND;TZID=Europe/Madrid:20220114T190000
DTSTAMP:20220124T130623Z
URL:https://www.aedipeasturias.es/eventos/clausura-proyecto-nice-de-aedipe
 -asturias-solidaria/
SUMMARY:Clausura Proyecto Nice de Aedipe Asturias Solidaria
DESCRIPTION:El 14 de enero se celebró\, en la Federación Asturiana de Emp
 resarios FADE\, la jornada de clausura del Proyecto Nice de Aedipe Asturia
 s solidaria\, que junto a Ramal Asturias ha desarrollado a lo largo del a
 ño 2021\, con Jéssica Buelga como Responsable de este proyecto solidario
  y el apoyo de Beatriz Blázquez Responsable de comunicación de Aedipe As
 turias\, ambas participaron como  mentoras en dicho proyecto.\n\nLa unió
 n de Aedipe Asturias y Ramal Asturias en Aedipe Solidaria posibilitan 
 el ejercicio de una actividad conjunta para favorecer el desarrollo profes
 ional de colectivos con menores oportunidades de empleabilidad.\n\nDamos l
 as gracias a Julio Rodríguez\, CEO de la Red de Mentoring España\, que p
 uso a nuestra disposición sus recursos\, su plataforma y su metodología 
 para optimizar el proceso de mentoring y a Ramal Asturias que aportó dire
 ctivas como mentoras. Por supuesto\, también a Maricruz Rubio socia funda
 dora de Ramal y coordinadora de este magnífico proyecto.\n\nEl proyecto N
 ice para visibilizar el talento senior femenino\, ha sido posible gracias 
 al compromiso y entusiasmo de las participantes\, las mentorizadas\, auté
 nticas protagonistas\, que han trabajado duro para conseguir sus metas. Fe
 licitar también a las mentoras que han buscado hueco en sus apretadas ag
 endas para apoyar a mujeres en  ese arduo camino de la búsqueda activa d
 e empleo. Es un ejemplo de sororidad y de generosidad.\n\n&nbsp\;
ATTACH;FMTTYPE=image/jpeg:https://www.aedipeasturias.es/wp-content/uploads
 /2022/01/271877261_292249229596280_4669853288161453148_n.jpg
CATEGORIES:Colaboración
END:VEVENT
BEGIN:VTIMEZONE
TZID:Europe/Madrid
X-LIC-LOCATION:Europe/Madrid
BEGIN:STANDARD
DTSTART:20211031T020000
TZOFFSETFROM:+0200
TZOFFSETTO:+0100
TZNAME:CET
END:STANDARD
END:VTIMEZONE
END:VCALENDAR