BEGIN:VCALENDAR
VERSION:2.0
PRODID:-//wp-events-plugin.com//7.2.3.1//EN
TZID:Europe/Madrid
X-WR-TIMEZONE:Europe/Madrid
BEGIN:VEVENT
UID:51@aedipeasturias.es
DTSTART;TZID=Europe/Madrid:20211025T090000
DTEND;TZID=Europe/Madrid:20211026T133000
DTSTAMP:20211005T202850Z
URL:https://www.aedipeasturias.es/eventos/aula-virtual-upskilling-comunica
 cion-interna-como-llevarla-al-siguiente-nivel/
SUMMARY:Aula Virtual - Upskilling comunicación interna: cómo llevarla al 
 siguiente nivel
DESCRIPTION:\n\nLa función de comunicación interna ha crecido en valor es
 tratégico y notoriedad en todas las organizaciones\, especialmente con la
  irrupción de la pandemia. Por ello\, está experimentando cambios a velo
 cidades muy intensas.\n\nA su vez\, las organizaciones están experimentan
 do cambios culturales y organizativos debido a su creciente orientación h
 acia el compromiso del empleado\, poniéndolo en el centro de su estrategi
 a.\n\nLa función de comunicación interna ofrece un rol cada vez más imp
 ortante y estratégico en la toma de decisiones y la implantación de la e
 strategia corporativa.\n\nConscientes de ello\, en este programa de formac
 ión\, especialmente dirigido a profesionales con responsabilidad en el á
 rea de personas\, queremos anticiparnos para –en base a tendencias y ben
 chmark– redefinir su rol y retos de futuro.\n\nFechas y horarios:\nLunes
 \, 25 de octubre de 9:00 a 13:30 h.\nMartes\, 26 de octubre de 9:00 a 13:3
 0 h.\nTutoría grupal:\nMartes\, 9 de noviembre de 9:00 a 10:30 h.\n\nForm
 ato: online\nPlataforma de conexión: Zoom\n\nHoras lectivas: 8 horas +
  1\,5 h tutoría\nGrupo con plazas limitadas\n\nPrograma: Descargar progr
 ama en pdf\n\nPlazas limitadas. La confirmación de plaza se hará efecti
 va por estricto orden de recepción completa de la documentación requeri
 da.\n\nLa cuota de inscripción es de:\n•    Asociados…………
 ……………. 260 € +21% IVA\n•    No Asociados…..……
 ………. 360 € +21% IVA\n\n
CATEGORIES:Aula Virtual
END:VEVENT
BEGIN:VTIMEZONE
TZID:Europe/Madrid
X-LIC-LOCATION:Europe/Madrid
BEGIN:DAYLIGHT
DTSTART:20210328T030000
TZOFFSETFROM:+0100
TZOFFSETTO:+0200
TZNAME:CEST
END:DAYLIGHT
END:VTIMEZONE
END:VCALENDAR