BEGIN:VCALENDAR
VERSION:2.0
PRODID:-//wp-events-plugin.com//7.2.3.1//EN
TZID:Europe/Madrid
X-WR-TIMEZONE:Europe/Madrid
BEGIN:VEVENT
UID:62@aedipeasturias.es
DTSTART;TZID=Europe/Madrid:20220321T093000
DTEND;TZID=Europe/Madrid:20220323T133000
DTSTAMP:20220306T190135Z
URL:https://www.aedipeasturias.es/eventos/aula-virtual-taller-de-creativid
 ad-organizacional/
SUMMARY:Aula Virtual: Taller de creatividad organizacional
DESCRIPTION:\n\nEn la actualidad\, con la tecnología cambiando drásticame
 nte los modelos tradicionales de negocios\, las empresas dependen cada vez
  más de la innovación y la creatividad para permanecer competitivas en e
 l mercado.\n\nLa creatividad no es solo una forma para que las empresas ob
 tengan una ventaja competitiva\, sino también un modo de construir un mod
 elo sostenible capaz de resistir a largo plazo. La lógica detrás de esto
  es que la creatividad conduce a la innovación\, que\, a su vez\, genera 
 esta ventaja competitiva.\n\nAnte el aumento de la competencia\, las empre
 sas de hoy en día necesitan aprovechar cualquier ventaja que puedan obten
 er para permanecer relevantes en el mercado. Afortunadamente\, la creativi
 dad organizacional puede ofrecerles la ventaja competitiva necesaria para 
 no volverse obsoletas y además prosperar en un entorno empresarial en con
 stante cambio. Y la mejor parte es que está disponible para cualquiera qu
 e tenga la voluntad de usarla\, sin importar el tamaño de la empresa o la
  industria en la que operen.\n\nSi la creatividad es tan importante para l
 a empresa\, ¿Cómo podemos conseguir activar la capacidad creativa de nue
 stro equipo para que genere ideas valiosas de forma sistemática?\n\n\n\nF
 echas y horarios:\nLunes\, 21 de marzo 9:30 a 13:00 h.\nMiércoles\, 23 de
  marzo de 9:30 a 13:00 h.\nTutoría grupal:\n     Lunes\, 4 de abril de
  12:00 a 13:30 h.\n\n\nFormato: online\nPlataforma de conexión: Zoom\n\
 nHoras lectivas: 6 horas + 1\,5 h tutoría\nGrupo con plazas limitadas\n\
 nPrograma: Descargar programa en pdf\n\nPlazas limitadas. La confirmació
 n de plaza se hará efectiva por estricto orden de recepción completa d
 e la documentación requerida.\n\nLa cuota de inscripción es de:\n•  
   Asociados………………………. 260 € +21% IVA\n•    
 No Asociados…..……………. 360 € +21% IVA\n\n
CATEGORIES:Aula Virtual
END:VEVENT
BEGIN:VTIMEZONE
TZID:Europe/Madrid
X-LIC-LOCATION:Europe/Madrid
BEGIN:STANDARD
DTSTART:20211031T020000
TZOFFSETFROM:+0200
TZOFFSETTO:+0100
TZNAME:CET
END:STANDARD
END:VTIMEZONE
END:VCALENDAR